{"text_format":"1","workbook":"xlsx","n_sheets":6,"sheets":["Info","Hauptmenue","Vorgaben","Spielplan","Rechnen","Gruppen-Tabellen"],"not_rendered":{"charts":0,"images":1,"macros":1,"external_links":0,"defined_names":8,"comments":2,"pivot_tables":0},"unopened":[{"sheet":"Info","index":0,"reason":"not_a_worksheet"}],"bounds":{"document_bytes":16777216,"sheet_cells":100000,"rows_first":2000,"rows_last":500,"rows_between":2000,"halvings":0,"cell_chars":16384,"cell_head_chars":4096},"cells_cut":0,"cells_raw":0,"read":"whole","date_system":"1900"}

{"sheet":"Hauptmenue","index":1,"n_rows":1,"n_cols":1,"rows_kept":1,"cut":false,"hidden":false,"merged":[]}
["Hauptmenue"]

{"sheet":"Vorgaben","index":2,"n_rows":13,"n_cols":4,"rows_kept":13,"cut":false,"hidden":false,"merged":[[0,2,0,4]]}
["Gruppe A","Gruppe C","Vorgaben"]
["M01","M10","Spielzeit","hh:mm"]
["M02","M11","Dauer:","00:14:00"]
["M03","M12","(Vorrunde)"]
["M04","M13","Pause:","00:01:00"]
["M05",null,"(zwischen den Spielen)"]
[null,null,"Pause:","00:06:00"]
["Gruppe B","Gruppe D","(nach Vorrunde, nach Viertelfinale und nach Halbfinale)"]
["M06","M14"]
["M07","M15"]
["M08","M16"]
["M09","M17","Turnier"]
[null,null,"beginn:","08:30:00"]

{"sheet":"Spielplan","index":3,"n_rows":71,"n_cols":10,"rows_kept":71,"cut":false,"hidden":false,"merged":[[62,8,62,10],[21,3,21,4],[68,5,68,7],[64,5,64,7],[57,5,57,7],[42,5,42,7],[44,8,44,10],[47,8,47,10],[50,8,50,10],[53,8,53,10],[59,8,59,10],[37,3,37,4],[66,8,66,10],[70,8,70,10],[23,3,23,4],[14,3,14,4],[15,3,15,4],[16,3,16,4],[17,3,17,4],[19,3,19,4],[41,3,41,4],[30,3,30,4],[31,3,31,4],[32,3,32,4],[33,3,33,4],[34,3,34,4],[35,3,35,4],[40,3,40,4],[26,3,26,4],[27,3,27,4],[28,3,28,4],[29,3,29,4],[20,3,20,4],[25,3,25,4],[22,3,22,4],[24,3,24,4],[36,3,36,4],[18,3,18,4],[38,3,38,4],[13,3,13,4],[39,3,39,4]]}
[null,"Gruppe A","Pkte","Tore",null,null,null,"Gruppe C","Pkte","Tore"]
[null,{"$f":"Vorgaben!A2","v":"M01"},null,null,null,null,null,{"$f":"Vorgaben!B2","v":"M10"}]
[null,{"$f":"Vorgaben!A3","v":"M02"},null,null,null,null,null,{"$f":"Vorgaben!B3","v":"M11"}]
[null,{"$f":"Vorgaben!A4","v":"M03"},null,null,null,null,null,{"$f":"Vorgaben!B4","v":"M12"}]
[null,{"$f":"Vorgaben!A5","v":"M04"},null,null,null,null,null,{"$f":"Vorgaben!B5","v":"M13"}]
[null,{"$f":"Vorgaben!A6","v":"M05"}]
[]
[null,"Gruppe B","Pkte","Tore",null,null,null,"Gruppe D","Pkte","Tore"]
[null,{"$f":"Vorgaben!A9","v":"M06"},null,null,null,null,null,{"$f":"Vorgaben!B9","v":"M14"}]
[null,{"$f":"Vorgaben!A10","v":"M07"},null,null,null,null,null,{"$f":"Vorgaben!B10","v":"M15"}]
[null,{"$f":"Vorgaben!A11","v":"M08"},null,null,null,null,null,{"$f":"Vorgaben!B11","v":"M16"}]
[null,{"$f":"Vorgaben!A12","v":"M09"},null,null,null,null,null,{"$f":"Vorgaben!B12","v":"M17"}]
[]
["Zeit","Spiel Nr.","Ort","Gruppe",null,"Vorrunde",null,null,"Ergebnis"]
[{"$f":"Vorgaben!D13","v":"08:30:00"},1,"Platz 1","Gr.A",null,{"$f":"B2","v":"M01"},"-",{"$f":"B3","v":"M02"},null,":"]
[{"$f":"A15","v":"08:30:00"},2,"Platz 2","Gr.B","Gr.B",{"$f":"B9","v":"M06"},"-",{"$f":"B10","v":"M07"},null,":"]
[{"$f":"A16+Vorgaben!D3+Vorgaben!D5","v":"08:45:00"},3,"Platz 1","Gr.C","Gr.C",{"$f":"H2","v":"M10"},"-",{"$f":"H3","v":"M11"},null,":"]
[{"$f":"A17","v":"08:45:00"},4,"Platz 2","Gr.D","Gr.D",{"$f":"H9","v":"M14"},"-",{"$f":"H10","v":"M15"},null,":"]
[{"$f":"A18+Vorgaben!D3+Vorgaben!D5","v":"09:00:00"},5,"Platz 1","Gr.A","Gr.A",{"$f":"B4","v":"M03"},"-",{"$f":"B5","v":"M04"},null,":"]
[{"$f":"A19","v":"09:00:00"},6,"Platz 2","Gr.B","Gr.B",{"$f":"B11","v":"M08"},"-",{"$f":"B12","v":"M09"},null,":"]
[{"$f":"A20+Vorgaben!D3+Vorgaben!D5","v":"09:15:00"},7,"Platz 1","Gr.C","Gr.C",{"$f":"H4","v":"M12"},"-",{"$f":"H5","v":"M13"},null,":"]
[{"$f":"A21","v":"09:15:00"},8,"Platz 2","Gr.D","Gr.D",{"$f":"H11","v":"M16"},"-",{"$f":"H12","v":"M17"},null,":"]
[{"$f":"A22+Vorgaben!D3+Vorgaben!D5","v":"09:30:00"},9,"Platz 1","Gr.A","Gr.A",{"$f":"B6","v":"M05"},"-",{"$f":"B2","v":"M01"},null,":"]
[{"$f":"A23","v":"09:30:00"},10,"Platz 2","Gr.A","Gr.A",{"$f":"B4","v":"M03"},"-",{"$f":"B3","v":"M02"},null,":"]
[{"$f":"A24+Vorgaben!D3+Vorgaben!D5","v":"09:45:00"},11,"Platz 1","Gr.B","Gr.B",{"$f":"B11","v":"M08"},"-",{"$f":"B10","v":"M07"},null,":"]
[{"$f":"A25","v":"09:45:00"},12,"Platz 2","Gr.C","Gr.C",{"$f":"H4","v":"M12"},"-",{"$f":"H3","v":"M11"},null,":"]
[{"$f":"A26+Vorgaben!D3+Vorgaben!D5","v":"10:00:00"},13,"Platz 1","Gr.D","Gr.D",{"$f":"H11","v":"M16"},"-",{"$f":"H10","v":"M15"},null,":"]
[{"$f":"A27","v":"10:00:00"},14,"Platz 2","Gr.A","Gr.A",{"$f":"B5","v":"M04"},"-",{"$f":"B6","v":"M05"},null,":"]
[{"$f":"A28+Vorgaben!D3+Vorgaben!D5","v":"10:15:00"},15,"Platz 1","Gr.A","Gr.A",{"$f":"B2","v":"M01"},"-",{"$f":"B4","v":"M03"},null,":"]
[{"$f":"A29","v":"10:15:00"},16,"Platz 2","Gr.B","Gr.B",{"$f":"B9","v":"M06"},"-",{"$f":"B11","v":"M08"},null,":"]
[{"$f":"A30+Vorgaben!D3+Vorgaben!D5","v":"10:30:00"},17,"Platz 1","Gr.C","Gr.C",{"$f":"H2","v":"M10"},"-",{"$f":"H4","v":"M12"},null,":"]
[{"$f":"A31","v":"10:30:00"},18,"Platz 2","Gr.D","Gr.D",{"$f":"H9","v":"M14"},"-",{"$f":"H11","v":"M16"},null,":"]
[{"$f":"A32+Vorgaben!D3+Vorgaben!D5","v":"10:45:00"},19,"Platz 1","Gr.A","Gr.A",{"$f":"B3","v":"M02"},"-",{"$f":"B5","v":"M04"},null,":"]
[{"$f":"A33","v":"10:45:00"},20,"Platz 2","Gr.B","Gr.B",{"$f":"B10","v":"M07"},"-",{"$f":"B12","v":"M09"},null,":"]
[{"$f":"A30+Vorgaben!D3+Vorgaben!D5","v":"10:30:00"},21,"Platz 1","Gr.C","Gr.C",{"$f":"H3","v":"M11"},"-",{"$f":"H5","v":"M13"},null,":"]
[{"$f":"A35","v":"10:30:00"},22,"Platz 2","Gr.D","Gr.D",{"$f":"H10","v":"M15"},"-",{"$f":"H12","v":"M17"},null,":"]
[{"$f":"A36+Vorgaben!D3+Vorgaben!D5","v":"10:45:00"},23,"Platz 1","Gr.A","Gr.A",{"$f":"B6","v":"M05"},"-",{"$f":"B4","v":"M03"},null,":"]
[{"$f":"A37","v":"10:45:00"},24,"Platz 2","Gr.A","Gr.A",{"$f":"B5","v":"M04"},"-",{"$f":"B2","v":"M01"},null,":"]
[{"$f":"A34+Vorgaben!D3+Vorgaben!D5","v":"11:00:00"},25,"Platz 1","Gr.B","Gr.B",{"$f":"B12","v":"M09"},"-",{"$f":"B9","v":"M06"},null,":"]
[{"$f":"A39","v":"11:00:00"},26,"Platz 2","Gr.C","Gr.C",{"$f":"H5","v":"M13"},"-",{"$f":"H2","v":"M10"},null,":"]
[{"$f":"A40+Vorgaben!D3+Vorgaben!D5","v":"11:15:00"},27,"Platz 1","Gr.D","Gr.D",{"$f":"H12","v":"M17"},"-",{"$f":"H9","v":"M14"},null,":"]
[{"$f":"A41","v":"11:15:00"},28,"Platz 2","Gr.A","Gr.A",{"$f":"B3","v":"M02"},"-",{"$f":"B6","v":"M05"},null,":"]
[null,"Spiel Nr.",null,null,null,"Viertelfinale"]
[{"$f":"A42+Vorgaben!D3+Vorgaben!D7","v":"11:35:00"},{"$f":"B42+1","v":29},"Platz 1",null,null,{"$f":"IF(Rechnen!W3=0,\"\",'Gruppen-Tabellen'!B9)","v":""},":",{"$f":"IF(Rechnen!V3=0,\"\",'Gruppen-Tabellen'!B4)","v":""},null,":"]
[null,null,null,null,null,"Erster Gruppe B",null,"Zweiter Gruppe A"]
[]
[{"$f":"A44","v":"11:35:00"},{"$f":"B44+1","v":30},"Platz 2",null,null,{"$f":"IF(Rechnen!V3=0,\"\",'Gruppen-Tabellen'!B3)","v":""},":",{"$f":"IF(Rechnen!W3=0,\"\",'Gruppen-Tabellen'!B10)","v":""},null,":"]
[null,null,null,null,null,"Erster Gruppe A",null,"Zweiter Gruppe B"]
[]
[{"$f":"A47+Vorgaben!D3+Vorgaben!D7","v":"11:55:00"},{"$f":"B47+1","v":31},"Platz 1",null,null,{"$f":"IF(Rechnen!Y3=0,\"\",'Gruppen-Tabellen'!B21)","v":""},":",{"$f":"IF(Rechnen!X3=0,\"\",'Gruppen-Tabellen'!B16)","v":""},null,":"]
[null,null,null,null,null,"Erster Gruppe D",null,"Zweiter Gruppe C"]
[]
[{"$f":"A50","v":"11:55:00"},{"$f":"B50+1","v":32},"Platz 2",null,null,{"$f":"IF(Rechnen!X3=0,\"\",'Gruppen-Tabellen'!B15)","v":""},":",{"$f":"IF(Rechnen!Y3=0,\"\",'Gruppen-Tabellen'!B22)","v":""},null,":"]
[null,null,null,null,null,"Erster Gruppe C",null,"Zweiter Gruppe D"]
[]
[]
[]
[null,null,null,null,null," Halbfinale"]
[{"$f":"A53+Vorgaben!D3+Vorgaben!D7","v":"12:15:00"},{"$f":"B53+1","v":33},"Platz 1",null,null,{"$f":"IF(OR(I47=\"\",K47=\"\"),\"\",IF(I47>K47,F47,IF(I47<=K47,H47)))","v":""},":",{"$f":"IF(OR(I50=\"\",K50=\"\"),\"\",IF(I50>K50,F50,IF(I50<=K50,H50)))","v":""},null,":"]
[null,null,null,null,null,"Sieger Viertelfinale Spiel 26",null,"Sieger Viertelfinale Spiel 27"]
[]
[{"$f":"A59","v":"12:15:00"},{"$f":"B59+1","v":34},"Platz 2",null,null,{"$f":"IF(OR(I44=\"\",K44=\"\"),\"\",IF(I44>K44,F44,IF(I44<=K44,H44)))","v":""},":",{"$f":"IF(OR(I53=\"\",K53=\"\"),\"\",IF(I53>K53,F53,IF(I53<=K53,H53)))","v":""},null,":"]
[null,null,null,null,null,"Sieger Viertelfinale Spiel 25",null,"Sieger Viertelfinale Spiel 28"]
[]
[null,null,null,null,null,"Spiel um den 3.Platz"]
[{"$f":"A62+Vorgaben!D3+Vorgaben!D7","v":"12:35:00"},{"$f":"B62+1","v":35},"Platz 2",null,null,{"$f":"IF(OR(I59=\"\",K59=\"\"),\"\",IF(I59<K59,F59,IF(I59>=K59,H59)))","v":""},":",{"$f":"IF(OR(I62=\"\",K62=\"\"),\"\",IF(I62<K62,F62,IF(I62>=K62,H62)))","v":""},null,":"]
[null,null,null,null,null,"Verlierer Halbfinale Spiel  29",null,"Verlierer Halbfinale Spiel 30"]
[]
[null,null,null,null,null,"Finale"]
[{"$f":"A66","v":"12:35:00"},{"$f":"B66+1","v":36},"Platz 1",null,null,{"$f":"IF(OR(I59=\"\",K59=\"\"),\"\",IF(I59>K59,F59,IF(I59<=K59,H59)))","v":""},":",{"$f":"IF(OR(I62=\"\",K62=\"\"),\"\",IF(I62>K62,F62,IF(I62<=K62,H62)))","v":""},null,":"]
[null,null,null,null,null,"Sieger Halbfinale Spiel 29",null,"Sieger Halbfinale Spiel 30"]

{"sheet":"Rechnen","index":4,"n_rows":30,"n_cols":26,"rows_kept":30,"cut":false,"hidden":false,"merged":[[14,16,15,16],[21,10,22,10],[21,11,22,11],[21,12,22,12],[21,13,22,15],[21,16,22,16],[14,10,15,10],[14,11,15,11],[14,12,15,12],[14,13,15,15],[7,16,8,16],[1,4,1,6],[1,13,1,15],[7,10,8,10],[7,11,8,11],[7,12,8,12],[7,13,8,15]]}
[]
["Spiel","Mannschaft",null,"Mannschaft","Ergebnis",null,null,"Punkte Mann-schaft Heim","Punkte Mann-schaft Gast",null,"Gruppe A","Spiele","Pkte","Tore",null,null,"Diff.",null,"1. Spiel","2. Spiel","3. Spiel","Summe aller Spiele Gruppe A","Summe aller Spiele Gruppe B","Summe aller Spiele Gruppe C","Summe aller Spiele Gruppe D","4. Spiel"]
[{"$f":"Spielplan!$B15","v":1},{"$f":"Spielplan!$F15","v":"M01"},"-",{"$f":"Spielplan!$H15","v":"M02"},{"$f":"IF(Spielplan!$I15=\"\",\"\",Spielplan!$I15)","v":""},":",{"$f":"IF(Spielplan!$K15=\"\",\"\",Spielplan!$K15)","v":""},{"$f":"IF(OR($E3=\"\",$G3=\"\"),\"\",IF(E3>G3,3,IF(E3=G3,1,0)))","v":""},{"$f":"IF(OR($E3=\"\",$G3=\"\"),\"\",IF(G3>E3,3,IF(E3=G3,1,0)))","v":""},null,{"$f":"Vorgaben!A2","v":"M01"},{"$f":"SUM(S3:U3)+Z3","v":0},{"$f":"SUM(H3,I11,H17,I26)","v":0},{"$f":"SUM(E3,G11,E17,G26)","v":0},":",{"$f":"SUM(G3,E11,G17,E26)","v":0},{"$f":"N3-P3","v":0},null,{"$f":"IF(OR(E3=\"\",G3=\"\"),0,1)","v":0},{"$f":"IF(OR(E11=\"\",G11=\"\"),0,1)","v":0},{"$f":"IF(OR(E17=\"\",G17=\"\"),0,1)","v":0},{"$f":"SUM(L3:L7)/2","v":0},{"$f":"SUM(L10:L14)/2","v":0},{"$f":"SUM(L17:L21)/2","v":0},{"$f":"SUM(L24:L28)/2","v":0},{"$f":"IF(OR(E17=\"\",G17=\"\"),0,1)","v":0}]
[{"$f":"Spielplan!$B16","v":2},{"$f":"Spielplan!$F16","v":"M06"},"-",{"$f":"Spielplan!$H16","v":"M07"},{"$f":"IF(Spielplan!$I16=\"\",\"\",Spielplan!$I16)","v":""},":",{"$f":"IF(Spielplan!$K16=\"\",\"\",Spielplan!$K16)","v":""},"","",null,{"$f":"Vorgaben!A3","v":"M02"},{"$f":"SUM(S4:U4)+Z4","v":0},{"$f":"SUM(I3,I12,H21,H30)","v":0},{"$f":"SUM(G3,G12,E21,E30)","v":0},":",{"$f":"SUM(E3,E12,G21,G30)","v":0},{"$f":"N4-P4","v":0},null,{"$f":"IF(OR(E3=\"\",G3=\"\"),0,1)","v":0},{"$f":"IF(OR(E12=\"\",G12=\"\"),0,1)","v":0},{"$f":"IF(OR(E21=\"\",G21=\"\"),0,1)","v":0},null,null,null,null,{"$f":"IF(OR(E30=\"\",G30=\"\"),0,1)","v":0}]
[{"$f":"Spielplan!$B17","v":3},{"$f":"Spielplan!$F17","v":"M10"},"-",{"$f":"Spielplan!$H17","v":"M11"},{"$f":"IF(Spielplan!$I17=\"\",\"\",Spielplan!$I17)","v":""},":",{"$f":"IF(Spielplan!$K17=\"\",\"\",Spielplan!$K17)","v":""},"","",null,{"$f":"Vorgaben!A4","v":"M03"},{"$f":"SUM(S5:U5)+Z5","v":0},{"$f":"SUM(H7,H12,I17,I25)","v":0},{"$f":"SUM(E7,E12,G17,G25)","v":0},":",{"$f":"SUM(G7,G12,E17,E25)","v":0},{"$f":"N5-P5","v":0},null,{"$f":"IF(OR(E7=\"\",G7=\"\"),0,1)","v":0},{"$f":"IF(OR(E12=\"\",G12=\"\"),0,1)","v":0},{"$f":"IF(OR(E17=\"\",G17=\"\"),0,1)","v":0},null,null,null,null,{"$f":"IF(OR(E25=\"\",G25=\"\"),0,1)","v":0}]
[{"$f":"Spielplan!$B18","v":4},{"$f":"Spielplan!$F18","v":"M14"},"-",{"$f":"Spielplan!$H18","v":"M15"},{"$f":"IF(Spielplan!$I18=\"\",\"\",Spielplan!$I18)","v":""},":",{"$f":"IF(Spielplan!$K18=\"\",\"\",Spielplan!$K18)","v":""},"","",null,{"$f":"Vorgaben!A5","v":"M04"},{"$f":"SUM(S6:U6)+Z6","v":0},{"$f":"SUM(I7,H16,I21,H26)","v":0},{"$f":"SUM(G7,E16,G21,E26)","v":0},":",{"$f":"SUM(E7,G16,E21,G26)","v":0},{"$f":"N6-P6","v":0},null,{"$f":"IF(OR(E7=\"\",G7=\"\"),0,1)","v":0},{"$f":"IF(OR(E16=\"\",G16=\"\"),0,1)","v":0},{"$f":"IF(OR(E26=\"\",G26=\"\"),0,1)","v":0},null,null,null,null,{"$f":"IF(OR(E26=\"\",G26=\"\"),0,1)","v":0}]
[{"$f":"Spielplan!$B19","v":5},{"$f":"Spielplan!$F19","v":"M03"},"-",{"$f":"Spielplan!$H19","v":"M04"},{"$f":"IF(Spielplan!$I19=\"\",\"\",Spielplan!$I19)","v":""},":",{"$f":"IF(Spielplan!$K19=\"\",\"\",Spielplan!$K19)","v":""},"","",null,{"$f":"Vorgaben!A6","v":"M05"},{"$f":"SUM(S7:U7)+Z7","v":0},{"$f":"SUM(H11,I16,H25,I30)","v":0},{"$f":"SUM(E11,G16,E25,G30)","v":0},":",{"$f":"SUM(G11,E16,G25,E30)","v":0},{"$f":"N7-P7","v":0},null,{"$f":"IF(OR(E11=\"\",G11=\"\"),0,1)","v":0},{"$f":"IF(OR(E16=\"\",G16=\"\"),0,1)","v":0},{"$f":"IF(OR(E25=\"\",G25=\"\"),0,1)","v":0},null,null,null,null,{"$f":"IF(OR(E30=\"\",G30=\"\"),0,1)","v":0}]
[{"$f":"Spielplan!$B20","v":6},{"$f":"Spielplan!$F20","v":"M08"},"-",{"$f":"Spielplan!$H20","v":"M09"},{"$f":"IF(Spielplan!$I20=\"\",\"\",Spielplan!$I20)","v":""},":",{"$f":"IF(Spielplan!$K20=\"\",\"\",Spielplan!$K20)","v":""},"","",null,"Gruppe B","Spiele","Pkte","Tore",null,null,"Diff."]
[{"$f":"Spielplan!$B21","v":7},{"$f":"Spielplan!$F21","v":"M12"},"-",{"$f":"Spielplan!$H21","v":"M13"},{"$f":"IF(Spielplan!$I21=\"\",\"\",Spielplan!$I21)","v":""},":",{"$f":"IF(Spielplan!$K21=\"\",\"\",Spielplan!$K21)","v":""},"",""]
[{"$f":"Spielplan!$B22","v":8},{"$f":"Spielplan!$F22","v":"M16"},"-",{"$f":"Spielplan!$H22","v":"M17"},{"$f":"IF(Spielplan!$I22=\"\",\"\",Spielplan!$I22)","v":""},":",{"$f":"IF(Spielplan!$K22=\"\",\"\",Spielplan!$K22)","v":""},"","",null,{"$f":"Vorgaben!A9","v":"M06"},{"$f":"SUM(S10:U10)","v":0},{"$f":"SUM(H4,H18,I27)","v":0},{"$f":"SUM(E4,E18,G27)","v":0},":",{"$f":"SUM(G4,G18,E27)","v":0},{"$f":"N10-P10","v":0},null,{"$f":"IF(OR(E4=\"\",G4=\"\"),0,1)","v":0},{"$f":"IF(OR(E18=\"\",G18=\"\"),0,1)","v":0},{"$f":"IF(OR(E27=\"\",G27=\"\"),0,1)","v":0}]
[{"$f":"Spielplan!$B23","v":9},{"$f":"Spielplan!$F23","v":"M05"},"-",{"$f":"Spielplan!$H23","v":"M01"},{"$f":"IF(Spielplan!$I23=\"\",\"\",Spielplan!$I23)","v":""},":",{"$f":"IF(Spielplan!$K23=\"\",\"\",Spielplan!$K23)","v":""},"","",null,{"$f":"Vorgaben!A10","v":"M07"},{"$f":"SUM(S11:U11)","v":0},{"$f":"SUM(I4,I13,H22)","v":0},{"$f":"SUM(G4,G13,E22)","v":0},":",{"$f":"SUM(E4,E13,G22)","v":0},{"$f":"N11-P11","v":0},null,{"$f":"IF(OR(E4=\"\",G4=\"\"),0,1)","v":0},{"$f":"IF(OR(E13=\"\",G13=\"\"),0,1)","v":0},{"$f":"IF(OR(E22=\"\",G22=\"\"),0,1)","v":0}]
[{"$f":"Spielplan!$B24","v":10},{"$f":"Spielplan!$F24","v":"M03"},"-",{"$f":"Spielplan!$H24","v":"M02"},{"$f":"IF(Spielplan!$I24=\"\",\"\",Spielplan!$I24)","v":""},":",{"$f":"IF(Spielplan!$K24=\"\",\"\",Spielplan!$K24)","v":""},"","",null,{"$f":"Vorgaben!A11","v":"M08"},{"$f":"SUM(S12:U12)","v":0},{"$f":"SUM(H8,H13,I18)","v":0},{"$f":"SUM(E8,E13,G18)","v":0},":",{"$f":"SUM(G8,G13,E18)","v":0},{"$f":"N12-P12","v":0},null,{"$f":"IF(OR(E8=\"\",G8=\"\"),0,1)","v":0},{"$f":"IF(OR(E13=\"\",G13=\"\"),0,1)","v":0},{"$f":"IF(OR(E18=\"\",G18=\"\"),0,1)","v":0}]
[{"$f":"Spielplan!$B25","v":11},{"$f":"Spielplan!$F25","v":"M08"},"-",{"$f":"Spielplan!$H25","v":"M07"},{"$f":"IF(Spielplan!$I25=\"\",\"\",Spielplan!$I25)","v":""},":",{"$f":"IF(Spielplan!$K25=\"\",\"\",Spielplan!$K25)","v":""},"","",null,{"$f":"Vorgaben!A12","v":"M09"},{"$f":"SUM(S13:U13)","v":0},{"$f":"SUM(I8,I22,H27)","v":0},{"$f":"SUM(G8,G22,E27)","v":0},":",{"$f":"SUM(E8,E22,G27)","v":0},{"$f":"N13-P13","v":0},null,{"$f":"IF(OR(E8=\"\",G8=\"\"),0,1)","v":0},{"$f":"IF(OR(E22=\"\",G22=\"\"),0,1)","v":0},{"$f":"IF(OR(E27=\"\",G27=\"\"),0,1)","v":0}]
[{"$f":"Spielplan!$B26","v":12},{"$f":"Spielplan!$F26","v":"M12"},"-",{"$f":"Spielplan!$H26","v":"M11"},{"$f":"IF(Spielplan!$I26=\"\",\"\",Spielplan!$I26)","v":""},":",{"$f":"IF(Spielplan!$K26=\"\",\"\",Spielplan!$K26)","v":""},"",""]
[{"$f":"Spielplan!$B27","v":13},{"$f":"Spielplan!$F27","v":"M16"},"-",{"$f":"Spielplan!$H27","v":"M15"},{"$f":"IF(Spielplan!$I27=\"\",\"\",Spielplan!$I27)","v":""},":",{"$f":"IF(Spielplan!$K27=\"\",\"\",Spielplan!$K27)","v":""},"","",null,"Gruppe C","Spiele","Pkte","Tore",null,null,"Diff."]
[{"$f":"Spielplan!$B28","v":14},{"$f":"Spielplan!$F28","v":"M04"},"-",{"$f":"Spielplan!$H28","v":"M05"},{"$f":"IF(Spielplan!$I28=\"\",\"\",Spielplan!$I28)","v":""},":",{"$f":"IF(Spielplan!$K28=\"\",\"\",Spielplan!$K28)","v":""},"",""]
[{"$f":"Spielplan!$B29","v":15},{"$f":"Spielplan!$F29","v":"M01"},"-",{"$f":"Spielplan!$H29","v":"M03"},{"$f":"IF(Spielplan!$I29=\"\",\"\",Spielplan!$I29)","v":""},":",{"$f":"IF(Spielplan!$K29=\"\",\"\",Spielplan!$K29)","v":""},"","",null,{"$f":"Vorgaben!B2","v":"M10"},{"$f":"SUM(S17:U17)","v":0},{"$f":"SUM(H5,H19,I28)","v":0},{"$f":"SUM(E5,E19,G28)","v":0},":",{"$f":"SUM(G5,G19,E28)","v":0},{"$f":"N17-P17","v":0},null,{"$f":"IF(OR(E5=\"\",G5=\"\"),0,1)","v":0},{"$f":"IF(OR(E19=\"\",G19=\"\"),0,1)","v":0},{"$f":"IF(OR(E28=\"\",G28=\"\"),0,1)","v":0}]
[{"$f":"Spielplan!$B30","v":16},{"$f":"Spielplan!$F30","v":"M06"},"-",{"$f":"Spielplan!$H30","v":"M08"},{"$f":"IF(Spielplan!$I30=\"\",\"\",Spielplan!$I30)","v":""},":",{"$f":"IF(Spielplan!$K30=\"\",\"\",Spielplan!$K30)","v":""},{"$f":"IF(OR($E18=\"\",$G18=\"\"),\"\",IF(E18>G18,3,IF(E18=G18,1,0)))","v":""},{"$f":"IF(OR($E18=\"\",$G18=\"\"),\"\",IF(G18>E18,3,IF(E18=G18,1,0)))","v":""},null,{"$f":"Vorgaben!B3","v":"M11"},{"$f":"SUM(S18:U18)","v":0},{"$f":"SUM(I5,I14,H23)","v":0},{"$f":"SUM(G5,G14,E23)","v":0},":",{"$f":"SUM(E5,E14,G23)","v":0},{"$f":"N18-P18","v":0},null,{"$f":"IF(OR(E5=\"\",G5=\"\"),0,1)","v":0},{"$f":"IF(OR(E14=\"\",G14=\"\"),0,1)","v":0},{"$f":"IF(OR(E23=\"\",G23=\"\"),0,1)","v":0}]
[{"$f":"Spielplan!$B31","v":17},{"$f":"Spielplan!$F31","v":"M10"},"-",{"$f":"Spielplan!$H31","v":"M12"},{"$f":"IF(Spielplan!$I31=\"\",\"\",Spielplan!$I31)","v":""},":",{"$f":"IF(Spielplan!$K31=\"\",\"\",Spielplan!$K31)","v":""},"","",null,{"$f":"Vorgaben!B4","v":"M12"},{"$f":"SUM(S19:U19)","v":0},{"$f":"SUM(H9,H14,I19)","v":0},{"$f":"SUM(E9,E14,G19)","v":0},":",{"$f":"SUM(G9,G14,E19)","v":0},{"$f":"N19-P19","v":0},null,{"$f":"IF(OR(E9=\"\",G9=\"\"),0,1)","v":0},{"$f":"IF(OR(E14=\"\",G14=\"\"),0,1)","v":0},{"$f":"IF(OR(E19=\"\",G19=\"\"),0,1)","v":0}]
[{"$f":"Spielplan!$B32","v":18},{"$f":"Spielplan!$F32","v":"M14"},"-",{"$f":"Spielplan!$H32","v":"M16"},{"$f":"IF(Spielplan!$I32=\"\",\"\",Spielplan!$I32)","v":""},":",{"$f":"IF(Spielplan!$K32=\"\",\"\",Spielplan!$K32)","v":""},"","",null,{"$f":"Vorgaben!B5","v":"M13"},{"$f":"SUM(S20:U20)","v":0},{"$f":"SUM(I9,I23,H28)","v":0},{"$f":"SUM(G9,G23,E28)","v":0},":",{"$f":"SUM(E9,E23,G28)","v":0},{"$f":"N20-P20","v":0},null,{"$f":"IF(OR(E9=\"\",G9=\"\"),0,1)","v":0},{"$f":"IF(OR(E23=\"\",G23=\"\"),0,1)","v":0},{"$f":"IF(OR(E28=\"\",G28=\"\"),0,1)","v":0}]
[{"$f":"Spielplan!$B33","v":19},{"$f":"Spielplan!$F33","v":"M02"},"-",{"$f":"Spielplan!$H33","v":"M04"},{"$f":"IF(Spielplan!$I33=\"\",\"\",Spielplan!$I33)","v":""},":",{"$f":"IF(Spielplan!$K33=\"\",\"\",Spielplan!$K33)","v":""},"",""]
[{"$f":"Spielplan!$B34","v":20},{"$f":"Spielplan!$F34","v":"M07"},"-",{"$f":"Spielplan!$H34","v":"M09"},{"$f":"IF(Spielplan!$I34=\"\",\"\",Spielplan!$I34)","v":""},":",{"$f":"IF(Spielplan!$K34=\"\",\"\",Spielplan!$K34)","v":""},"","",null,"Gruppe D","Spiele","Pkte","Tore",null,null,"Diff."]
[{"$f":"Spielplan!$B35","v":21},{"$f":"Spielplan!$F35","v":"M11"},"-",{"$f":"Spielplan!$H35","v":"M13"},{"$f":"IF(Spielplan!$I35=\"\",\"\",Spielplan!$I35)","v":""},":",{"$f":"IF(Spielplan!$K35=\"\",\"\",Spielplan!$K35)","v":""},"",""]
[{"$f":"Spielplan!$B36","v":22},{"$f":"Spielplan!$F36","v":"M15"},"-",{"$f":"Spielplan!$H36","v":"M17"},{"$f":"IF(Spielplan!$I36=\"\",\"\",Spielplan!$I36)","v":""},":",{"$f":"IF(Spielplan!$K36=\"\",\"\",Spielplan!$K36)","v":""},"","",null,{"$f":"Vorgaben!B9","v":"M14"},{"$f":"SUM(S24:U24)","v":0},{"$f":"SUM(H6,H20,I29)","v":0},{"$f":"SUM(E6,E20,G29)","v":0},":",{"$f":"SUM(G6,G20,E29)","v":0},{"$f":"N24-P24","v":0},null,{"$f":"IF(OR(E6=\"\",G6=\"\"),0,1)","v":0},{"$f":"IF(OR(E20=\"\",G20=\"\"),0,1)","v":0},{"$f":"IF(OR(E29=\"\",G29=\"\"),0,1)","v":0}]
[{"$f":"Spielplan!$B37","v":23},{"$f":"Spielplan!$F37","v":"M05"},"-",{"$f":"Spielplan!$H37","v":"M03"},{"$f":"IF(Spielplan!$I37=\"\",\"\",Spielplan!$I37)","v":""},":",{"$f":"IF(Spielplan!$K37=\"\",\"\",Spielplan!$K37)","v":""},"","",null,{"$f":"Vorgaben!B10","v":"M15"},{"$f":"SUM(S25:U25)","v":0},{"$f":"SUM(I6,I15,H24)","v":0},{"$f":"SUM(G6,G15,E24)","v":0},":",{"$f":"SUM(E6,E15,G24)","v":0},{"$f":"N25-P25","v":0},null,{"$f":"IF(OR(E6=\"\",G6=\"\"),0,1)","v":0},{"$f":"IF(OR(E15=\"\",G15=\"\"),0,1)","v":0},{"$f":"IF(OR(E24=\"\",G24=\"\"),0,1)","v":0}]
[{"$f":"Spielplan!$B38","v":24},{"$f":"Spielplan!$F38","v":"M04"},"-",{"$f":"Spielplan!$H38","v":"M01"},{"$f":"IF(Spielplan!$I38=\"\",\"\",Spielplan!$I38)","v":""},":",{"$f":"IF(Spielplan!$K38=\"\",\"\",Spielplan!$K38)","v":""},"","",null,{"$f":"Vorgaben!B11","v":"M16"},{"$f":"SUM(S26:U26)","v":0},{"$f":"SUM(H10,H15,I20)","v":0},{"$f":"SUM(E10,E15,G20)","v":0},":",{"$f":"SUM(G10,G15,E20)","v":0},{"$f":"N26-P26","v":0},null,{"$f":"IF(OR(E10=\"\",G10=\"\"),0,1)","v":0},{"$f":"IF(OR(E15=\"\",G15=\"\"),0,1)","v":0},{"$f":"IF(OR(E20=\"\",G20=\"\"),0,1)","v":0}]
[{"$f":"Spielplan!$B39","v":25},{"$f":"Spielplan!$F39","v":"M09"},"-",{"$f":"Spielplan!$H39","v":"M06"},{"$f":"IF(Spielplan!$I39=\"\",\"\",Spielplan!$I39)","v":""},":",{"$f":"IF(Spielplan!$K39=\"\",\"\",Spielplan!$K39)","v":""},"","",null,{"$f":"Vorgaben!B12","v":"M17"},{"$f":"SUM(S27:U27)","v":0},{"$f":"SUM(I10,I24,H29)","v":0},{"$f":"SUM(G10,G24,E29)","v":0},":",{"$f":"SUM(E10,E24,G29)","v":0},{"$f":"N27-P27","v":0},null,{"$f":"IF(OR(E10=\"\",G10=\"\"),0,1)","v":0},{"$f":"IF(OR(E24=\"\",G24=\"\"),0,1)","v":0},{"$f":"IF(OR(E29=\"\",G29=\"\"),0,1)","v":0}]
[{"$f":"Spielplan!$B40","v":26},{"$f":"Spielplan!$F40","v":"M13"},"-",{"$f":"Spielplan!$H40","v":"M10"},{"$f":"IF(Spielplan!$I40=\"\",\"\",Spielplan!$I40)","v":""},":",{"$f":"IF(Spielplan!$K40=\"\",\"\",Spielplan!$K40)","v":""},"",""]
[{"$f":"Spielplan!$B41","v":27},{"$f":"Spielplan!$F41","v":"M17"},"-",{"$f":"Spielplan!$H41","v":"M14"},{"$f":"IF(Spielplan!$I41=\"\",\"\",Spielplan!$I41)","v":""},":",{"$f":"IF(Spielplan!$K41=\"\",\"\",Spielplan!$K41)","v":""},"",""]
[{"$f":"Spielplan!$B42","v":28},{"$f":"Spielplan!$F42","v":"M02"},"-",{"$f":"Spielplan!$H42","v":"M05"},{"$f":"IF(Spielplan!$I42=\"\",\"\",Spielplan!$I42)","v":""},":",{"$f":"IF(Spielplan!$K42=\"\",\"\",Spielplan!$K42)","v":""},"",""]

{"sheet":"Gruppen-Tabellen","index":5,"n_rows":24,"n_cols":8,"rows_kept":24,"cut":false,"hidden":false,"merged":[[12,0,13,0],[12,1,13,1],[18,0,19,0],[18,1,19,1],[18,2,19,2],[18,3,19,3],[12,2,13,2],[12,3,13,3],[12,4,13,6],[12,7,13,7],[0,1,0,7],[1,4,1,6],[18,4,19,6],[18,7,19,7]]}
[null,"Gruppeneinteilung - Tabellen"]
["Rang","Gruppe A","Spiele","Pkte","Tore",null,null,"Diff."]
[{"$f":"IF(Rechnen!$V$3=0,\"\",1)","v":""},{"$f":"Rechnen!K3","v":"M01"},{"$f":"IF(Rechnen!$V$3=0,\"\",Rechnen!L3)","v":""},{"$f":"IF(Rechnen!$V$3=0,\"\",Rechnen!M3)","v":""},{"$f":"IF(Rechnen!$V$3=0,\"\",Rechnen!N3)","v":""},":",{"$f":"IF(Rechnen!$V$3=0,\"\",Rechnen!P3)","v":""},{"$f":"IF(AND(E3=\"\",G3=\"\"),\"\",(E3-G3))","v":""}]
[{"$f":"IF(Rechnen!$V$3=0,\"\",2)","v":""},{"$f":"Rechnen!K4","v":"M02"},{"$f":"IF(Rechnen!$V$3=0,\"\",Rechnen!L4)","v":""},{"$f":"IF(Rechnen!$V$3=0,\"\",Rechnen!M4)","v":""},{"$f":"IF(Rechnen!$V$3=0,\"\",Rechnen!N4)","v":""},":",{"$f":"IF(Rechnen!$V$3=0,\"\",Rechnen!P4)","v":""},{"$f":"IF(AND(E4=\"\",G4=\"\"),\"\",(E4-G4))","v":""}]
[{"$f":"IF(Rechnen!$V$3=0,\"\",3)","v":""},{"$f":"Rechnen!K5","v":"M03"},{"$f":"IF(Rechnen!$V$3=0,\"\",Rechnen!L5)","v":""},{"$f":"IF(Rechnen!$V$3=0,\"\",Rechnen!M5)","v":""},{"$f":"IF(Rechnen!$V$3=0,\"\",Rechnen!N5)","v":""},":",{"$f":"IF(Rechnen!$V$3=0,\"\",Rechnen!P5)","v":""},{"$f":"IF(AND(E5=\"\",G5=\"\"),\"\",(E5-G5))","v":""}]
[{"$f":"IF(Rechnen!$V$3=0,\"\",4)","v":""},{"$f":"Rechnen!K6","v":"M04"},{"$f":"IF(Rechnen!$V$3=0,\"\",Rechnen!L6)","v":""},{"$f":"IF(Rechnen!$V$3=0,\"\",Rechnen!M6)","v":""},{"$f":"IF(Rechnen!$V$3=0,\"\",Rechnen!N6)","v":""},":",{"$f":"IF(Rechnen!$V$3=0,\"\",Rechnen!P6)","v":""},{"$f":"IF(AND(E6=\"\",G6=\"\"),\"\",(E6-G6))","v":""}]
[{"$f":"IF(Rechnen!$V$3=0,\"\",5)","v":""},{"$f":"Rechnen!K7","v":"M05"},{"$f":"IF(Rechnen!$V$3=0,\"\",Rechnen!L7)","v":""},{"$f":"IF(Rechnen!$V$3=0,\"\",Rechnen!M7)","v":""},{"$f":"IF(Rechnen!$V$3=0,\"\",Rechnen!N7)","v":""},":",{"$f":"IF(Rechnen!$V$3=0,\"\",Rechnen!P7)","v":""},{"$f":"IF(AND(E7=\"\",G7=\"\"),\"\",(E7-G7))","v":""}]
[null,"Gruppe B","Spiele","Pkte","Tore",null,null,"Diff."]
[{"$f":"IF(Rechnen!$W$3=0,\"\",1)","v":""},{"$f":"Rechnen!K10","v":"M06"},{"$f":"IF(Rechnen!$W$3=0,\"\",Rechnen!L10)","v":""},{"$f":"IF(Rechnen!$W$3=0,\"\",Rechnen!M10)","v":""},{"$f":"IF(Rechnen!$W$3=0,\"\",Rechnen!N10)","v":""},":",{"$f":"IF(Rechnen!$W$3=0,\"\",Rechnen!P10)","v":""},{"$f":"IF(AND(E9=\"\",G9=\"\"),\"\",(E9-G9))","v":""}]
[{"$f":"IF(Rechnen!$W$3=0,\"\",2)","v":""},{"$f":"Rechnen!K11","v":"M07"},{"$f":"IF(Rechnen!$W$3=0,\"\",Rechnen!L11)","v":""},{"$f":"IF(Rechnen!$W$3=0,\"\",Rechnen!M11)","v":""},{"$f":"IF(Rechnen!$W$3=0,\"\",Rechnen!N11)","v":""},":",{"$f":"IF(Rechnen!$W$3=0,\"\",Rechnen!P11)","v":""},{"$f":"IF(AND(E10=\"\",G10=\"\"),\"\",(E10-G10))","v":""}]
[{"$f":"IF(Rechnen!$W$3=0,\"\",3)","v":""},{"$f":"Rechnen!K12","v":"M08"},{"$f":"IF(Rechnen!$W$3=0,\"\",Rechnen!L12)","v":""},{"$f":"IF(Rechnen!$W$3=0,\"\",Rechnen!M12)","v":""},{"$f":"IF(Rechnen!$W$3=0,\"\",Rechnen!N12)","v":""},":",{"$f":"IF(Rechnen!$W$3=0,\"\",Rechnen!P12)","v":""},{"$f":"IF(AND(E11=\"\",G11=\"\"),\"\",(E11-G11))","v":""}]
[{"$f":"IF(Rechnen!$W$3=0,\"\",4)","v":""},{"$f":"Rechnen!K13","v":"M09"},{"$f":"IF(Rechnen!$W$3=0,\"\",Rechnen!L13)","v":""},{"$f":"IF(Rechnen!$W$3=0,\"\",Rechnen!M13)","v":""},{"$f":"IF(Rechnen!$W$3=0,\"\",Rechnen!N13)","v":""},":",{"$f":"IF(Rechnen!$W$3=0,\"\",Rechnen!P13)","v":""},{"$f":"IF(AND(E12=\"\",G12=\"\"),\"\",(E12-G12))","v":""}]
[null,"GruppeC","Spiele","Pkte","Tore",null,null,"Diff."]
[]
[{"$f":"IF(Rechnen!$X$3=0,\"\",1)","v":""},{"$f":"Rechnen!K17","v":"M10"},{"$f":"IF(Rechnen!$X$3=0,\"\",Rechnen!L17)","v":""},{"$f":"IF(Rechnen!$X$3=0,\"\",Rechnen!M17)","v":""},{"$f":"IF(Rechnen!$X$3=0,\"\",Rechnen!N17)","v":""},":",{"$f":"IF(Rechnen!$X$3=0,\"\",Rechnen!P17)","v":""},{"$f":"IF(AND(E15=\"\",G15=\"\"),\"\",(E15-G15))","v":""}]
[{"$f":"IF(Rechnen!$X$3=0,\"\",2)","v":""},{"$f":"Rechnen!K18","v":"M11"},{"$f":"IF(Rechnen!$X$3=0,\"\",Rechnen!L18)","v":""},{"$f":"IF(Rechnen!$X$3=0,\"\",Rechnen!M18)","v":""},{"$f":"IF(Rechnen!$X$3=0,\"\",Rechnen!N18)","v":""},":",{"$f":"IF(Rechnen!$X$3=0,\"\",Rechnen!P18)","v":""},{"$f":"IF(AND(E16=\"\",G16=\"\"),\"\",(E16-G16))","v":""}]
[{"$f":"IF(Rechnen!$X$3=0,\"\",3)","v":""},{"$f":"Rechnen!K19","v":"M12"},{"$f":"IF(Rechnen!$X$3=0,\"\",Rechnen!L19)","v":""},{"$f":"IF(Rechnen!$X$3=0,\"\",Rechnen!M19)","v":""},{"$f":"IF(Rechnen!$X$3=0,\"\",Rechnen!N19)","v":""},":",{"$f":"IF(Rechnen!$X$3=0,\"\",Rechnen!P19)","v":""},{"$f":"IF(AND(E17=\"\",G17=\"\"),\"\",(E17-G17))","v":""}]
[{"$f":"IF(Rechnen!$X$3=0,\"\",4)","v":""},{"$f":"Rechnen!K20","v":"M13"},{"$f":"IF(Rechnen!$X$3=0,\"\",Rechnen!L20)","v":""},{"$f":"IF(Rechnen!$X$3=0,\"\",Rechnen!M20)","v":""},{"$f":"IF(Rechnen!$X$3=0,\"\",Rechnen!N20)","v":""},":",{"$f":"IF(Rechnen!$X$3=0,\"\",Rechnen!P20)","v":""},{"$f":"IF(AND(E18=\"\",G18=\"\"),\"\",(E18-G18))","v":""}]
[null,"Gruppe D","Spiele","Pkte","Tore",null,null,"Diff."]
[]
[{"$f":"IF(Rechnen!$Y$3=0,\"\",1)","v":""},{"$f":"Rechnen!K24","v":"M14"},{"$f":"IF(Rechnen!$Y$3=0,\"\",Rechnen!L24)","v":""},{"$f":"IF(Rechnen!$Y$3=0,\"\",Rechnen!M24)","v":""},{"$f":"IF(Rechnen!$Y$3=0,\"\",Rechnen!N24)","v":""},":",{"$f":"IF(Rechnen!$Y$3=0,\"\",Rechnen!P24)","v":""},{"$f":"IF(AND(E21=\"\",G21=\"\"),\"\",(E21-G21))","v":""}]
[{"$f":"IF(Rechnen!$Y$3=0,\"\",2)","v":""},{"$f":"Rechnen!K25","v":"M15"},{"$f":"IF(Rechnen!$Y$3=0,\"\",Rechnen!L25)","v":""},{"$f":"IF(Rechnen!$Y$3=0,\"\",Rechnen!M25)","v":""},{"$f":"IF(Rechnen!$Y$3=0,\"\",Rechnen!N25)","v":""},":",{"$f":"IF(Rechnen!$Y$3=0,\"\",Rechnen!P25)","v":""},{"$f":"IF(AND(E22=\"\",G22=\"\"),\"\",(E22-G22))","v":""}]
[{"$f":"IF(Rechnen!$Y$3=0,\"\",3)","v":""},{"$f":"Rechnen!K26","v":"M16"},{"$f":"IF(Rechnen!$Y$3=0,\"\",Rechnen!L26)","v":""},{"$f":"IF(Rechnen!$Y$3=0,\"\",Rechnen!M26)","v":""},{"$f":"IF(Rechnen!$Y$3=0,\"\",Rechnen!N26)","v":""},":",{"$f":"IF(Rechnen!$Y$3=0,\"\",Rechnen!P26)","v":""},{"$f":"IF(AND(E23=\"\",G23=\"\"),\"\",(E23-G23))","v":""}]
[{"$f":"IF(Rechnen!$Y$3=0,\"\",4)","v":""},{"$f":"Rechnen!K27","v":"M17"},{"$f":"IF(Rechnen!$Y$3=0,\"\",Rechnen!L27)","v":""},{"$f":"IF(Rechnen!$Y$3=0,\"\",Rechnen!M27)","v":""},{"$f":"IF(Rechnen!$Y$3=0,\"\",Rechnen!N27)","v":""},":",{"$f":"IF(Rechnen!$Y$3=0,\"\",Rechnen!P27)","v":""},{"$f":"IF(AND(E24=\"\",G24=\"\"),\"\",(E24-G24))","v":""}]