{"text_format":"1","workbook":"xlsx","n_sheets":7,"sheets":["Info","Hauptmenue","Vorgaben","Turnierplan","Spielplan","Rechnen","Gruppen-Tabellen"],"not_rendered":{"charts":0,"images":1,"macros":1,"external_links":0,"defined_names":9,"comments":3,"pivot_tables":0},"unopened":[{"sheet":"Info","index":0,"reason":"not_a_worksheet"}],"bounds":{"document_bytes":16777216,"sheet_cells":100000,"rows_first":2000,"rows_last":500,"rows_between":2000,"halvings":0,"cell_chars":16384,"cell_head_chars":4096},"cells_cut":0,"cells_raw":0,"read":"whole","date_system":"1900"}

{"sheet":"Hauptmenue","index":1,"n_rows":1,"n_cols":1,"rows_kept":1,"cut":false,"hidden":false,"merged":[]}
["Hauptmenue"]

{"sheet":"Vorgaben","index":2,"n_rows":13,"n_cols":4,"rows_kept":13,"cut":false,"hidden":false,"merged":[[0,2,0,4]]}
["Gruppe A","Gruppe C","Vorgaben"]
["M01","M10","Spielzeit","hh:mm"]
["M02","M11","Dauer:","00:14:00"]
["M03","M12","(Vorrunde)"]
["M04","M13","Pause:","00:01:00"]
["M05",null,"(zwischen den Spielen)"]
[null,null,"Pause:","00:01:00"]
["Gruppe B","Gruppe D","(nach Vorrunde, nach Viertelfinale und nach Halbfinale)"]
["M06","M14"]
["M07","M15"]
["M08","M16"]
["M09","M17","Turnier"]
[null,null,"beginn:","10:00:00"]

{"sheet":"Turnierplan","index":3,"n_rows":71,"n_cols":13,"rows_kept":71,"cut":false,"hidden":false,"merged":[[0,11,0,12]]}
[null,"Gruppe A","Pkte","Tore",null,null,null,"Gruppe C","Pkte","Tore",null,"Vorgaben"]
[null,"M01",{"$f":"L15+M23+L29+M38","v":0},{"$f":"SUM(I15,K23,I29,K38)","v":1},{"$f":"SUM(K15,I23,K29,I38)","v":2},null,null,"M10",{"$f":"L17+L31+M40","v":0},{"$f":"SUM(I17,I31,K40)","v":0},{"$f":"SUM(K17,K31,I40)","v":0},"Spielzeit","hh:mm"]
[null,"M02",{"$f":"M15+M24+L33+L42","v":3},{"$f":"SUM(K15,K24,I33,I42)","v":2},{"$f":"SUM(I15,I24,K33,K42)","v":1},null,null,"M11",{"$f":"M17+M26+L35","v":0},{"$f":"SUM(K17,K26,I35,)","v":0},{"$f":"SUM(I17,I26,K35)","v":0},"Dauer:","00:15:00"]
[null,"M03",{"$f":"L19+L24+M29+M37","v":0},{"$f":"SUM(I19,I24,K37,K29)","v":0},{"$f":"SUM(K19,K24,I37,I29)","v":0},null,null,"M12",{"$f":"L21+L26+M31","v":0},{"$f":"SUM(I21,I26,K31)","v":0},{"$f":"SUM(K21,K26,I31)","v":0}]
[null,"M04",{"$f":"M19+L28+M33+L38","v":0},{"$f":"SUM(K19,I28,K33,I38)","v":0},{"$f":"SUM(I19,K28,I33,K38)","v":0},null,null,"M13",{"$f":"M21+M35+L40","v":0},{"$f":"SUM(K21,K35,I40)","v":0},{"$f":"SUM(I21,I35,K40)","v":0},"Pause:","00:05:00"]
[null,"M05",{"$f":"L23+L37+M42+M28","v":0},{"$f":"SUM(I23,K28,I37,K42)","v":0},{"$f":"SUM(K23,I28,K37,I42)","v":0},null,null,null,null,null,null,"(vor Viertelfinale)"]
[]
[null,"Gruppe B","Pkte","Tore",null,null,null,"Gruppe D","Pkte","Tore"]
[null,"M06",{"$f":"L16+L30+M39","v":0},{"$f":"SUM(I16,I30,K39)","v":1},{"$f":"SUM(K16,K30,I39)","v":3},null,null,"M14",{"$f":"L18++L32+M41","v":0},{"$f":"SUM(I18,I32,K41)","v":0},{"$f":"SUM(K18,K32,I41)","v":0}]
[null,"M07",{"$f":"M16+M25+L34","v":3},{"$f":"SUM(K16,K25,I34)","v":3},{"$f":"SUM(I16,I25,K34)","v":1},null,null,"M15",{"$f":"M18+M27+L36","v":0},{"$f":"SUM(K18,K27,I36)","v":0},{"$f":"SUM(I18,I27,K36)","v":0}]
[null,"M08",{"$f":"L20+L25+M30","v":0},{"$f":"SUM(I20,I25,K30)","v":0},{"$f":"SUM(K20,K25,I30)","v":0},null,null,"M16",{"$f":"L22+L27+M32","v":0},{"$f":"SUM(I22,I27,K32)","v":0},{"$f":"SUM(K22,K27,I32)","v":0}]
[null,"M09",{"$f":"M20+M34+L39","v":0},{"$f":"SUM(K20,K34,I39)","v":0},{"$f":"SUM(I20,I34,K39)","v":0},null,null,"M17",{"$f":"M22+M36+L41","v":0},{"$f":"SUM(K22,K36,I41)","v":0},{"$f":"SUM(I22,I36,K41)","v":0}]
[]
["Zeit","Spiel Nr.","Ort","Gruppe",null,"Vorrunde",null,null,"Ergebnis",null,null,"Punkte 1.M.","Punkte 2.M."]
["10:00:00",1,"Platz 1","Gr.A",null,{"$f":"B2","v":"M01"},"-",{"$f":"B3","v":"M02"},1,":",2,{"$f":"IF(I15=\" \",0,IF(I15<K15,0,IF(I15>K15,3,1)))","v":0},{"$f":"IF(K15=\" \",0,IF(I15<K15,3,IF(I15>K15,0,1)))","v":3}]
[{"$f":"A15","v":"10:00:00"},2,"Platz 2","Gr.B",null,{"$f":"B9","v":"M06"},"-",{"$f":"B10","v":"M07"},1,":",3,0,3]
[{"$f":"A16+$M$3","v":"10:15:00"},3,"Platz 1","Gr.C",null,{"$f":"H2","v":"M10"},"-",{"$f":"H3","v":"M11"}," ",":"," ",0,0]
[{"$f":"A17","v":"10:15:00"},4,"Platz 2","Gr.D",null,{"$f":"H9","v":"M14"},"-",{"$f":"H10","v":"M15"}," ",":"," ",0,0]
[{"$f":"A18+$M$3","v":"10:30:00"},5,"Platz 1","Gr.A",null,{"$f":"B4","v":"M03"},"-",{"$f":"B5","v":"M04"}," ",":"," ",0,0]
[{"$f":"A19","v":"10:30:00"},6,"Platz 2","Gr.B",null,{"$f":"B11","v":"M08"},"-",{"$f":"B12","v":"M09"}," ",":"," ",0,0]
[{"$f":"A20+$M$3","v":"10:45:00"},7,"Platz 1","Gr.C",null,{"$f":"H4","v":"M12"},"-",{"$f":"H5","v":"M13"}," ",":"," ",0,0]
[{"$f":"A21","v":"10:45:00"},8,"Platz 2","Gr.D",null,{"$f":"H11","v":"M16"},"-",{"$f":"H12","v":"M17"}," ",":"," ",0,0]
[{"$f":"A22+$M$3","v":"11:00:00"},9,"Platz 1","Gr.A",null,{"$f":"B6","v":"M05"},"-",{"$f":"B2","v":"M01"}," ",":"," ",0,0]
[{"$f":"A23","v":"11:00:00"},10,"Platz 2","Gr.A",null,{"$f":"B4","v":"M03"},"-",{"$f":"B3","v":"M02"}," ",":"," ",0,0]
[{"$f":"A24+$M$3","v":"11:15:00"},11,"Platz 1","Gr.B",null,{"$f":"B11","v":"M08"},"-",{"$f":"B10","v":"M07"}," ",":"," ",0,0]
[{"$f":"A25","v":"11:15:00"},12,"Platz 2","Gr.C",null,{"$f":"H4","v":"M12"},"-",{"$f":"H3","v":"M11"}," ",":"," ",0,0]
[{"$f":"A26+$M$3","v":"11:30:00"},13,"Platz 1","Gr.D",null,{"$f":"H11","v":"M16"},"-",{"$f":"H10","v":"M15"}," ",":"," ",0,0]
[{"$f":"A27","v":"11:30:00"},14,"Platz 2","Gr.A",null,{"$f":"B5","v":"M04"},"-",{"$f":"B6","v":"M05"}," ",":"," ",0,0]
[{"$f":"A28+$M$3","v":"11:45:00"},15,"Platz 1","Gr.A",null,{"$f":"B2","v":"M01"},"-",{"$f":"B4","v":"M03"}," ",":"," ",0,0]
[{"$f":"A29","v":"11:45:00"},16,"Platz 2","Gr.B",null,{"$f":"B9","v":"M06"},"-",{"$f":"B11","v":"M08"}," ",":"," ",0,0]
[{"$f":"A30+$M$3","v":"12:00:00"},17,"Platz 1","Gr.C",null,{"$f":"H2","v":"M10"},"-",{"$f":"H4","v":"M12"}," ",":"," ",0,0]
[{"$f":"A31","v":"12:00:00"},18,"Platz 2","Gr.D",null,{"$f":"H9","v":"M14"},"-",{"$f":"H11","v":"M16"}," ",":"," ",0,0]
[{"$f":"A32+$M$3","v":"12:15:00"},19,"Platz 1","Gr.A",null,{"$f":"B3","v":"M02"},"-",{"$f":"B5","v":"M04"}," ",":"," ",0,0]
[{"$f":"A33","v":"12:15:00"},20,"Platz 2","Gr.B",null,{"$f":"B10","v":"M07"},"-",{"$f":"B12","v":"M09"}," ",":"," ",0,0]
[{"$f":"A34+$M$3","v":"12:30:00"},21,"Platz 1","Gr.C",null,{"$f":"H3","v":"M11"},"-",{"$f":"H5","v":"M13"}," ",":"," ",0,0]
[{"$f":"A35","v":"12:30:00"},22,"Platz 2","Gr.D",null,{"$f":"H10","v":"M15"},"-",{"$f":"H12","v":"M17"}," ",":"," ",0,0]
[{"$f":"A36+$M$3","v":"12:45:00"},23,"Platz 1","Gr.A",null,{"$f":"B6","v":"M05"},"-",{"$f":"B4","v":"M03"}," ",":"," ",0,0]
[{"$f":"A37","v":"12:45:00"},24,"Platz 2","Gr.A",null,{"$f":"B5","v":"M04"},"-",{"$f":"B2","v":"M01"}," ",":"," ",0,0]
[{"$f":"A38+$M$3","v":"13:00:00"},25,"Platz 1","Gr.B",null,{"$f":"B12","v":"M09"},"-",{"$f":"B9","v":"M06"}," ",":"," ",0,0]
[{"$f":"A39","v":"13:00:00"},26,"Platz 2","Gr.C",null,{"$f":"H5","v":"M13"},"-",{"$f":"H2","v":"M10"}," ",":"," ",0,0]
[{"$f":"A40+$M$3","v":"13:15:00"},27,"Platz 1","Gr.D",null,{"$f":"H12","v":"M17"},"-",{"$f":"H9","v":"M14"}," ",":"," ",0,0]
[{"$f":"A41","v":"13:15:00"},28,"Platz 2","Gr.A",null,{"$f":"B3","v":"M02"},"-",{"$f":"B6","v":"M05"}," ",":"," ",0,0]
[null,null,null,null,null,"Viertelfinale"]
[{"$f":"A42+$M$3+$M$5","v":"13:35:00"},{"$f":"B42+1","v":29},"Platz 1",null,null,null,":",null,null,":"]
[null,null,null,null,null,"Zweiter Gruppe A",null,"Erster Gruppe C"]
[]
[{"$f":"A44","v":"13:35:00"},{"$f":"B44+1","v":30},"Platz 2",null,null,null,":",null,null,":"]
[null,null,null,null,null,"Erster Gruppe B",null,"Zweiter Gruppe C"]
[]
[{"$f":"A47+$M$3","v":"13:50:00"},{"$f":"B47+1","v":31},"Platz 1",null,null,null,":",null,null,":"]
[null,null,null,null,null,"Erster Gruppe A",null,"Zweiter Gruppe D"]
[]
[{"$f":"A50","v":"13:50:00"},{"$f":"B50+1","v":32},"Platz 2",null,null,null,":",null,null,":"]
[null,null,null,null,null,"Erster Gruppe D",null,"Zweiter Gruppe B"]
[]
[]
[]
[null,null,null,null,null," Halbfinale"]
[{"$f":"A53+$M$3","v":"14:05:00"},{"$f":"B53+1","v":33},"Platz 1",null,null,null,":",null,null,":",null," "]
[null,null,null,null,null,"Sieger 2. Viertelfinale",null,"Sieger 3. Viertelfinale"]
[]
[{"$f":"A59","v":"14:05:00"},{"$f":"B59+1","v":34},"Platz 2",null,null,null,":",null,null,":"]
[null,null,null,null,null,"Sieger 1. Viertelfinale",null,"Sieger 4. Viertelfinale"]
[]
[null,null,null,null,null,"Spiel um den 3.Platz",null,null,null,":"]
[{"$f":"A62+$M$3+$M$5","v":"14:25:00"},{"$f":"B62+1","v":35},"Platz 2",null,null,null,":"]
[null,null,null,null,null,"Verlierer 1. Halbfinale",null,"Verlierer 2. Halbfinale"]
[]
[null,null,null,null,null,"Finale"]
[{"$f":"A66+$M$3","v":"14:40:00"},{"$f":"B66+1","v":36},"Platz 2",null,null,null,":",null,null,":"]
[null,null,null,null,null,"Sieger 1. Halbfinale",null,"Sieger 2. Halbfinale"]

{"sheet":"Spielplan","index":4,"n_rows":71,"n_cols":10,"rows_kept":71,"cut":false,"hidden":false,"merged":[[68,5,68,7],[64,5,64,7],[57,5,57,7],[42,5,42,7],[40,3,40,4],[41,3,41,4],[14,3,14,4],[15,3,15,4],[16,3,16,4],[17,3,17,4],[19,3,19,4],[20,3,20,4],[66,8,66,10],[70,8,70,10],[23,3,23,4],[59,8,59,10],[62,8,62,10],[44,8,44,10],[47,8,47,10],[50,8,50,10],[53,8,53,10],[29,3,29,4],[36,3,36,4],[37,3,37,4],[18,3,18,4],[31,3,31,4],[32,3,32,4],[33,3,33,4],[34,3,34,4],[21,3,21,4],[30,3,30,4],[38,3,38,4],[13,3,13,4],[39,3,39,4],[24,3,24,4],[25,3,25,4],[22,3,22,4],[26,3,26,4],[27,3,27,4],[28,3,28,4],[35,3,35,4]]}
[null,"Gruppe A","Pkte","Tore",null,null,null,"Gruppe C","Pkte","Tore"]
[null,{"$f":"Vorgaben!A2","v":"M01"},null,null,null,null,null,{"$f":"Vorgaben!B2","v":"M10"}]
[null,{"$f":"Vorgaben!A3","v":"M02"},null,null,null,null,null,{"$f":"Vorgaben!B3","v":"M11"}]
[null,{"$f":"Vorgaben!A4","v":"M03"},null,null,null,null,null,{"$f":"Vorgaben!B4","v":"M12"}]
[null,{"$f":"Vorgaben!A5","v":"M04"},null,null,null,null,null,{"$f":"Vorgaben!B5","v":"M13"}]
[null,{"$f":"Vorgaben!A6","v":"M05"}]
[]
[null,"Gruppe B","Pkte","Tore",null,null,null,"Gruppe D","Pkte","Tore"]
[null,{"$f":"Vorgaben!A9","v":"M06"},null,null,null,null,null,{"$f":"Vorgaben!B9","v":"M14"}]
[null,{"$f":"Vorgaben!A10","v":"M07"},null,null,null,null,null,{"$f":"Vorgaben!B10","v":"M15"}]
[null,{"$f":"Vorgaben!A11","v":"M08"},null,null,null,null,null,{"$f":"Vorgaben!B11","v":"M16"}]
[null,{"$f":"Vorgaben!A12","v":"M09"},null,null,null,null,null,{"$f":"Vorgaben!B12","v":"M17"}]
[]
[null,"Zeit","Spiel Nr.","Gruppe",null,"Vorrunde",null,null,"Ergebnis"]
[null,{"$f":"Vorgaben!$D$13","v":"10:00:00"},1,"Gr.A",null,{"$f":"B2","v":"M01"},"-",{"$f":"B3","v":"M02"},null,":"]
[null,{"$f":"B15+Vorgaben!$D$3+Vorgaben!$D$5","v":"10:15:00"},2,"Gr.B","Gr.B",{"$f":"B9","v":"M06"},"-",{"$f":"B10","v":"M07"},null,":"]
[null,{"$f":"B16+Vorgaben!$D$3+Vorgaben!$D$5","v":"10:30:00"},3,"Gr.C","Gr.C",{"$f":"H2","v":"M10"},"-",{"$f":"H3","v":"M11"},null,":"]
[null,{"$f":"B17+Vorgaben!$D$3+Vorgaben!$D$5","v":"10:45:00"},4,"Gr.D","Gr.D",{"$f":"H9","v":"M14"},"-",{"$f":"H10","v":"M15"},null,":"]
[null,{"$f":"B18+Vorgaben!$D$3+Vorgaben!$D$5","v":"11:00:00"},5,"Gr.A","Gr.A",{"$f":"B4","v":"M03"},"-",{"$f":"B5","v":"M04"},null,":"]
[null,{"$f":"B19+Vorgaben!$D$3+Vorgaben!$D$5","v":"11:15:00"},6,"Gr.B","Gr.B",{"$f":"B11","v":"M08"},"-",{"$f":"B12","v":"M09"},null,":"]
[null,{"$f":"B20+Vorgaben!$D$3+Vorgaben!$D$5","v":"11:30:00"},7,"Gr.C","Gr.C",{"$f":"H4","v":"M12"},"-",{"$f":"H5","v":"M13"},null,":"]
[null,{"$f":"B21+Vorgaben!$D$3+Vorgaben!$D$5","v":"11:45:00"},8,"Gr.D","Gr.D",{"$f":"H11","v":"M16"},"-",{"$f":"H12","v":"M17"},null,":"]
[null,{"$f":"B22+Vorgaben!$D$3+Vorgaben!$D$5","v":"12:00:00"},9,"Gr.A","Gr.A",{"$f":"B6","v":"M05"},"-",{"$f":"B2","v":"M01"},null,":"]
[null,{"$f":"B23+Vorgaben!$D$3+Vorgaben!$D$5","v":"12:15:00"},10,"Gr.A","Gr.A",{"$f":"B4","v":"M03"},"-",{"$f":"B3","v":"M02"},null,":"]
[null,{"$f":"B24+Vorgaben!$D$3+Vorgaben!$D$5","v":"12:30:00"},11,"Gr.B","Gr.B",{"$f":"B11","v":"M08"},"-",{"$f":"B10","v":"M07"},null,":"]
[null,{"$f":"B25+Vorgaben!$D$3+Vorgaben!$D$5","v":"12:45:00"},12,"Gr.C","Gr.C",{"$f":"H4","v":"M12"},"-",{"$f":"H3","v":"M11"},null,":"]
[null,{"$f":"B26+Vorgaben!$D$3+Vorgaben!$D$5","v":"13:00:00"},13,"Gr.D","Gr.D",{"$f":"H11","v":"M16"},"-",{"$f":"H10","v":"M15"},null,":"]
[null,{"$f":"B27+Vorgaben!$D$3+Vorgaben!$D$5","v":"13:15:00"},14,"Gr.A","Gr.A",{"$f":"B5","v":"M04"},"-",{"$f":"B6","v":"M05"},null,":"]
[null,{"$f":"B28+Vorgaben!$D$3+Vorgaben!$D$5","v":"13:30:00"},15,"Gr.A","Gr.A",{"$f":"B2","v":"M01"},"-",{"$f":"B4","v":"M03"},null,":"]
[null,{"$f":"B29+Vorgaben!$D$3+Vorgaben!$D$5","v":"13:45:00"},16,"Gr.B","Gr.B",{"$f":"B9","v":"M06"},"-",{"$f":"B11","v":"M08"},null,":"]
[null,{"$f":"B30+Vorgaben!$D$3+Vorgaben!$D$5","v":"14:00:00"},17,"Gr.C","Gr.C",{"$f":"H2","v":"M10"},"-",{"$f":"H4","v":"M12"},null,":"]
[null,{"$f":"B31+Vorgaben!$D$3+Vorgaben!$D$5","v":"14:15:00"},18,"Gr.D","Gr.D",{"$f":"H9","v":"M14"},"-",{"$f":"H11","v":"M16"},null,":"]
[null,{"$f":"B32+Vorgaben!$D$3+Vorgaben!$D$5","v":"14:30:00"},19,"Gr.A","Gr.A",{"$f":"B3","v":"M02"},"-",{"$f":"B5","v":"M04"},null,":"]
[null,{"$f":"B33+Vorgaben!$D$3+Vorgaben!$D$5","v":"14:45:00"},20,"Gr.B","Gr.B",{"$f":"B10","v":"M07"},"-",{"$f":"B12","v":"M09"},null,":"]
[null,{"$f":"B34+Vorgaben!$D$3+Vorgaben!$D$5","v":"15:00:00"},21,"Gr.C","Gr.C",{"$f":"H3","v":"M11"},"-",{"$f":"H5","v":"M13"},null,":"]
[null,{"$f":"B35+Vorgaben!$D$3+Vorgaben!$D$5","v":"15:15:00"},22,"Gr.D","Gr.D",{"$f":"H10","v":"M15"},"-",{"$f":"H12","v":"M17"},null,":"]
[null,{"$f":"B36+Vorgaben!$D$3+Vorgaben!$D$5","v":"15:30:00"},23,"Gr.A","Gr.A",{"$f":"B6","v":"M05"},"-",{"$f":"B4","v":"M03"},null,":"]
[null,{"$f":"B37+Vorgaben!$D$3+Vorgaben!$D$5","v":"15:45:00"},24,"Gr.A","Gr.A",{"$f":"B5","v":"M04"},"-",{"$f":"B2","v":"M01"},null,":"]
[null,{"$f":"B38+Vorgaben!$D$3+Vorgaben!$D$5","v":"16:00:00"},25,"Gr.B","Gr.B",{"$f":"B12","v":"M09"},"-",{"$f":"B9","v":"M06"},null,":"]
[null,{"$f":"B39+Vorgaben!$D$3+Vorgaben!$D$5","v":"16:15:00"},26,"Gr.C","Gr.C",{"$f":"H5","v":"M13"},"-",{"$f":"H2","v":"M10"},null,":"]
[null,{"$f":"B40+Vorgaben!$D$3+Vorgaben!$D$5","v":"16:30:00"},27,"Gr.D","Gr.D",{"$f":"H12","v":"M17"},"-",{"$f":"H9","v":"M14"},null,":"]
[null,{"$f":"B41+Vorgaben!$D$3+Vorgaben!$D$5","v":"16:45:00"},28,"Gr.A","Gr.A",{"$f":"B3","v":"M02"},"-",{"$f":"B6","v":"M05"},null,":"]
[null,"Spiel Nr.",null,null,null,"Viertelfinale"]
[null,{"$f":"B42+Vorgaben!$D$3+Vorgaben!$D$7","v":"17:00:00"},{"$f":"C42+1","v":29},null,null,{"$f":"IF(Rechnen!W3=0,\"\",'Gruppen-Tabellen'!B9)","v":""},":",{"$f":"IF(Rechnen!V3=0,\"\",'Gruppen-Tabellen'!B4)","v":""},null,":"]
[null,null,null,null,null,"Erster Gruppe B",null,"Zweiter Gruppe A"]
[]
[null,{"$f":"B44+Vorgaben!$D$3+Vorgaben!$D$5","v":"17:15:00"},{"$f":"C44+1","v":30},null,null,{"$f":"IF(Rechnen!V3=0,\"\",'Gruppen-Tabellen'!B3)","v":""},":",{"$f":"IF(Rechnen!W3=0,\"\",'Gruppen-Tabellen'!B10)","v":""},null,":"]
[null,null,null,null,null,"Erster Gruppe A",null,"Zweiter Gruppe B"]
[]
[null,{"$f":"B47+Vorgaben!$D$3+Vorgaben!$D$5","v":"17:30:00"},{"$f":"C47+1","v":31},null,null,{"$f":"IF(Rechnen!Y3=0,\"\",'Gruppen-Tabellen'!B21)","v":""},":",{"$f":"IF(Rechnen!X3=0,\"\",'Gruppen-Tabellen'!B16)","v":""},null,":"]
[null,null,null,null,null,"Erster Gruppe D",null,"Zweiter Gruppe C"]
[]
[null,{"$f":"B50+Vorgaben!$D$3+Vorgaben!$D$5","v":"17:45:00"},{"$f":"C50+1","v":32},null,null,{"$f":"IF(Rechnen!X3=0,\"\",'Gruppen-Tabellen'!B15)","v":""},":",{"$f":"IF(Rechnen!Y3=0,\"\",'Gruppen-Tabellen'!B22)","v":""},null,":"]
[null,null,null,null,null,"Erster Gruppe C",null,"Zweiter Gruppe D"]
[]
[]
[]
[null,null,null,null,null," Halbfinale"]
[null,{"$f":"B53+Vorgaben!$D$3+Vorgaben!$D$7","v":"18:00:00"},{"$f":"C53+1","v":33},null,null,{"$f":"IF(OR(I47=\"\",K47=\"\"),\"\",IF(I47>K47,F47,IF(I47<=K47,H47)))","v":""},":",{"$f":"IF(OR(I50=\"\",K50=\"\"),\"\",IF(I50>K50,F50,IF(I50<=K50,H50)))","v":""},null,":"]
[null,null,null,null,null,"Sieger Viertelfinale Spiel 26",null,"Sieger Viertelfinale Spiel 27"]
[]
[null,{"$f":"B59+Vorgaben!$D$3+Vorgaben!$D$5","v":"18:15:00"},{"$f":"C59+1","v":34},null,null,{"$f":"IF(OR(I44=\"\",K44=\"\"),\"\",IF(I44>K44,F44,IF(I44<=K44,H44)))","v":""},":",{"$f":"IF(OR(I53=\"\",K53=\"\"),\"\",IF(I53>K53,F53,IF(I53<=K53,H53)))","v":""},null,":"]
[null,null,null,null,null,"Sieger Viertelfinale Spiel 25",null,"Sieger Viertelfinale Spiel 28"]
[]
[null,null,null,null,null,"Spiel um den 3.Platz"]
[null,{"$f":"B62+Vorgaben!$D$3+Vorgaben!$D$7","v":"18:30:00"},{"$f":"C62+1","v":35},null,null,{"$f":"IF(OR(I59=\"\",K59=\"\"),\"\",IF(I59<K59,F59,IF(I59>=K59,H59)))","v":""},":",{"$f":"IF(OR(I62=\"\",K62=\"\"),\"\",IF(I62<K62,F62,IF(I62>=K62,H62)))","v":""},null,":"]
[null,null,null,null,null,"Verlierer Halbfinale Spiel  29",null,"Verlierer Halbfinale Spiel 30"]
[]
[null,null,null,null,null,"Finale"]
[null,{"$f":"B66+Vorgaben!$D$3+Vorgaben!$D$5","v":"18:45:00"},36,null,null,{"$f":"IF(OR(I59=\"\",K59=\"\"),\"\",IF(I59>K59,F59,IF(I59<=K59,H59)))","v":""},":",{"$f":"IF(OR(I62=\"\",K62=\"\"),\"\",IF(I62>K62,F62,IF(I62<=K62,H62)))","v":""},null,":"]
[null,null,null,null,null,"Sieger Halbfinale Spiel 29",null,"Sieger Halbfinale Spiel 30"]

{"sheet":"Rechnen","index":5,"n_rows":30,"n_cols":26,"rows_kept":30,"cut":false,"hidden":false,"merged":[[14,16,15,16],[21,10,22,10],[21,11,22,11],[21,12,22,12],[21,13,22,15],[21,16,22,16],[14,10,15,10],[14,11,15,11],[14,12,15,12],[14,13,15,15],[7,16,8,16],[1,4,1,6],[1,13,1,15],[7,10,8,10],[7,11,8,11],[7,12,8,12],[7,13,8,15]]}
[]
["Spiel","Mannschaft",null,"Mannschaft","Ergebnis",null,null,"Punkte Mann-schaft Heim","Punkte Mann-schaft Gast",null,"Gruppe A","Spiele","Pkte","Tore",null,null,"Diff.",null,"1. Spiel","2. Spiel","3. Spiel","Summe aller Spiele Gruppe A","Summe aller Spiele Gruppe B","Summe aller Spiele Gruppe C","Summe aller Spiele Gruppe D","4. Spiel"]
[{"$f":"Spielplan!$B15","v":0.41666666666666669},{"$f":"Spielplan!$F15","v":"M01"},"-",{"$f":"Spielplan!$H15","v":"M02"},{"$f":"IF(Spielplan!$I15=\"\",\"\",Spielplan!$I15)","v":""},":",{"$f":"IF(Spielplan!$K15=\"\",\"\",Spielplan!$K15)","v":""},{"$f":"IF(OR($E3=\"\",$G3=\"\"),\"\",IF(E3>G3,3,IF(E3=G3,1,0)))","v":""},{"$f":"IF(OR($E3=\"\",$G3=\"\"),\"\",IF(G3>E3,3,IF(E3=G3,1,0)))","v":""},null,{"$f":"Vorgaben!A2","v":"M01"},{"$f":"SUM(S3:U3)+Z3","v":0},{"$f":"SUM(H3,I11,H17,I26)","v":0},{"$f":"SUM(E3,G11,E17,G26)","v":0},":",{"$f":"SUM(G3,E11,G17,E26)","v":0},{"$f":"N3-P3","v":0},null,{"$f":"IF(OR(E3=\"\",G3=\"\"),0,1)","v":0},{"$f":"IF(OR(E11=\"\",G11=\"\"),0,1)","v":0},{"$f":"IF(OR(E17=\"\",G17=\"\"),0,1)","v":0},{"$f":"SUM(L3:L7)/2","v":0},{"$f":"SUM(L10:L14)/2","v":0},{"$f":"SUM(L17:L21)/2","v":0},{"$f":"SUM(L24:L28)/2","v":0},{"$f":"IF(OR(E17=\"\",G17=\"\"),0,1)","v":0}]
[{"$f":"Spielplan!$B16","v":0.42708333333333337},{"$f":"Spielplan!$F16","v":"M06"},"-",{"$f":"Spielplan!$H16","v":"M07"},{"$f":"IF(Spielplan!$I16=\"\",\"\",Spielplan!$I16)","v":""},":",{"$f":"IF(Spielplan!$K16=\"\",\"\",Spielplan!$K16)","v":""},"","",null,{"$f":"Vorgaben!A3","v":"M02"},{"$f":"SUM(S4:U4)+Z4","v":0},{"$f":"SUM(I3,I12,H21,H30)","v":0},{"$f":"SUM(G3,G12,E21,E30)","v":0},":",{"$f":"SUM(E3,E12,G21,G30)","v":0},{"$f":"N4-P4","v":0},null,{"$f":"IF(OR(E3=\"\",G3=\"\"),0,1)","v":0},{"$f":"IF(OR(E12=\"\",G12=\"\"),0,1)","v":0},{"$f":"IF(OR(E21=\"\",G21=\"\"),0,1)","v":0},null,null,null,null,{"$f":"IF(OR(E30=\"\",G30=\"\"),0,1)","v":0}]
[{"$f":"Spielplan!$B17","v":0.43750000000000006},{"$f":"Spielplan!$F17","v":"M10"},"-",{"$f":"Spielplan!$H17","v":"M11"},{"$f":"IF(Spielplan!$I17=\"\",\"\",Spielplan!$I17)","v":""},":",{"$f":"IF(Spielplan!$K17=\"\",\"\",Spielplan!$K17)","v":""},"","",null,{"$f":"Vorgaben!A4","v":"M03"},{"$f":"SUM(S5:U5)+Z5","v":0},{"$f":"SUM(H7,H12,I17,I25)","v":0},{"$f":"SUM(E7,E12,G17,G25)","v":0},":",{"$f":"SUM(G7,G12,E17,E25)","v":0},{"$f":"N5-P5","v":0},null,{"$f":"IF(OR(E7=\"\",G7=\"\"),0,1)","v":0},{"$f":"IF(OR(E12=\"\",G12=\"\"),0,1)","v":0},{"$f":"IF(OR(E17=\"\",G17=\"\"),0,1)","v":0},null,null,null,null,{"$f":"IF(OR(E25=\"\",G25=\"\"),0,1)","v":0}]
[{"$f":"Spielplan!$B18","v":0.44791666666666674},{"$f":"Spielplan!$F18","v":"M14"},"-",{"$f":"Spielplan!$H18","v":"M15"},{"$f":"IF(Spielplan!$I18=\"\",\"\",Spielplan!$I18)","v":""},":",{"$f":"IF(Spielplan!$K18=\"\",\"\",Spielplan!$K18)","v":""},"","",null,{"$f":"Vorgaben!A5","v":"M04"},{"$f":"SUM(S6:U6)+Z6","v":0},{"$f":"SUM(I7,H16,I21,H26)","v":0},{"$f":"SUM(G7,E16,G21,E26)","v":0},":",{"$f":"SUM(E7,G16,E21,G26)","v":0},{"$f":"N6-P6","v":0},null,{"$f":"IF(OR(E7=\"\",G7=\"\"),0,1)","v":0},{"$f":"IF(OR(E16=\"\",G16=\"\"),0,1)","v":0},{"$f":"IF(OR(E26=\"\",G26=\"\"),0,1)","v":0},null,null,null,null,{"$f":"IF(OR(E26=\"\",G26=\"\"),0,1)","v":0}]
[{"$f":"Spielplan!$B19","v":0.45833333333333343},{"$f":"Spielplan!$F19","v":"M03"},"-",{"$f":"Spielplan!$H19","v":"M04"},{"$f":"IF(Spielplan!$I19=\"\",\"\",Spielplan!$I19)","v":""},":",{"$f":"IF(Spielplan!$K19=\"\",\"\",Spielplan!$K19)","v":""},"","",null,{"$f":"Vorgaben!A6","v":"M05"},{"$f":"SUM(S7:U7)+Z7","v":0},{"$f":"SUM(H11,I16,H25,I30)","v":0},{"$f":"SUM(E11,G16,E25,G30)","v":0},":",{"$f":"SUM(G11,E16,G25,E30)","v":0},{"$f":"N7-P7","v":0},null,{"$f":"IF(OR(E11=\"\",G11=\"\"),0,1)","v":0},{"$f":"IF(OR(E16=\"\",G16=\"\"),0,1)","v":0},{"$f":"IF(OR(E25=\"\",G25=\"\"),0,1)","v":0},null,null,null,null,{"$f":"IF(OR(E30=\"\",G30=\"\"),0,1)","v":0}]
[{"$f":"Spielplan!$B20","v":0.46875000000000011},{"$f":"Spielplan!$F20","v":"M08"},"-",{"$f":"Spielplan!$H20","v":"M09"},{"$f":"IF(Spielplan!$I20=\"\",\"\",Spielplan!$I20)","v":""},":",{"$f":"IF(Spielplan!$K20=\"\",\"\",Spielplan!$K20)","v":""},"","",null,"Gruppe B","Spiele","Pkte","Tore",null,null,"Diff."]
[{"$f":"Spielplan!$B21","v":0.4791666666666668},{"$f":"Spielplan!$F21","v":"M12"},"-",{"$f":"Spielplan!$H21","v":"M13"},{"$f":"IF(Spielplan!$I21=\"\",\"\",Spielplan!$I21)","v":""},":",{"$f":"IF(Spielplan!$K21=\"\",\"\",Spielplan!$K21)","v":""},"",""]
[{"$f":"Spielplan!$B22","v":0.48958333333333348},{"$f":"Spielplan!$F22","v":"M16"},"-",{"$f":"Spielplan!$H22","v":"M17"},{"$f":"IF(Spielplan!$I22=\"\",\"\",Spielplan!$I22)","v":""},":",{"$f":"IF(Spielplan!$K22=\"\",\"\",Spielplan!$K22)","v":""},"","",null,{"$f":"Vorgaben!A9","v":"M06"},{"$f":"SUM(S10:U10)","v":0},{"$f":"SUM(H4,H18,I27)","v":0},{"$f":"SUM(E4,E18,G27)","v":0},":",{"$f":"SUM(G4,G18,E27)","v":0},{"$f":"N10-P10","v":0},null,{"$f":"IF(OR(E4=\"\",G4=\"\"),0,1)","v":0},{"$f":"IF(OR(E18=\"\",G18=\"\"),0,1)","v":0},{"$f":"IF(OR(E27=\"\",G27=\"\"),0,1)","v":0}]
[{"$f":"Spielplan!$B23","v":0.50000000000000022},{"$f":"Spielplan!$F23","v":"M05"},"-",{"$f":"Spielplan!$H23","v":"M01"},{"$f":"IF(Spielplan!$I23=\"\",\"\",Spielplan!$I23)","v":""},":",{"$f":"IF(Spielplan!$K23=\"\",\"\",Spielplan!$K23)","v":""},"","",null,{"$f":"Vorgaben!A10","v":"M07"},{"$f":"SUM(S11:U11)","v":0},{"$f":"SUM(I4,I13,H22)","v":0},{"$f":"SUM(G4,G13,E22)","v":0},":",{"$f":"SUM(E4,E13,G22)","v":0},{"$f":"N11-P11","v":0},null,{"$f":"IF(OR(E4=\"\",G4=\"\"),0,1)","v":0},{"$f":"IF(OR(E13=\"\",G13=\"\"),0,1)","v":0},{"$f":"IF(OR(E22=\"\",G22=\"\"),0,1)","v":0}]
[{"$f":"Spielplan!$B24","v":0.51041666666666685},{"$f":"Spielplan!$F24","v":"M03"},"-",{"$f":"Spielplan!$H24","v":"M02"},{"$f":"IF(Spielplan!$I24=\"\",\"\",Spielplan!$I24)","v":""},":",{"$f":"IF(Spielplan!$K24=\"\",\"\",Spielplan!$K24)","v":""},"","",null,{"$f":"Vorgaben!A11","v":"M08"},{"$f":"SUM(S12:U12)","v":0},{"$f":"SUM(H8,H13,I18)","v":0},{"$f":"SUM(E8,E13,G18)","v":0},":",{"$f":"SUM(G8,G13,E18)","v":0},{"$f":"N12-P12","v":0},null,{"$f":"IF(OR(E8=\"\",G8=\"\"),0,1)","v":0},{"$f":"IF(OR(E13=\"\",G13=\"\"),0,1)","v":0},{"$f":"IF(OR(E18=\"\",G18=\"\"),0,1)","v":0}]
[{"$f":"Spielplan!$B25","v":0.52083333333333348},{"$f":"Spielplan!$F25","v":"M08"},"-",{"$f":"Spielplan!$H25","v":"M07"},{"$f":"IF(Spielplan!$I25=\"\",\"\",Spielplan!$I25)","v":""},":",{"$f":"IF(Spielplan!$K25=\"\",\"\",Spielplan!$K25)","v":""},"","",null,{"$f":"Vorgaben!A12","v":"M09"},{"$f":"SUM(S13:U13)","v":0},{"$f":"SUM(I8,I22,H27)","v":0},{"$f":"SUM(G8,G22,E27)","v":0},":",{"$f":"SUM(E8,E22,G27)","v":0},{"$f":"N13-P13","v":0},null,{"$f":"IF(OR(E8=\"\",G8=\"\"),0,1)","v":0},{"$f":"IF(OR(E22=\"\",G22=\"\"),0,1)","v":0},{"$f":"IF(OR(E27=\"\",G27=\"\"),0,1)","v":0}]
[{"$f":"Spielplan!$B26","v":0.53125000000000011},{"$f":"Spielplan!$F26","v":"M12"},"-",{"$f":"Spielplan!$H26","v":"M11"},{"$f":"IF(Spielplan!$I26=\"\",\"\",Spielplan!$I26)","v":""},":",{"$f":"IF(Spielplan!$K26=\"\",\"\",Spielplan!$K26)","v":""},"",""]
[{"$f":"Spielplan!$B27","v":0.54166666666666674},{"$f":"Spielplan!$F27","v":"M16"},"-",{"$f":"Spielplan!$H27","v":"M15"},{"$f":"IF(Spielplan!$I27=\"\",\"\",Spielplan!$I27)","v":""},":",{"$f":"IF(Spielplan!$K27=\"\",\"\",Spielplan!$K27)","v":""},"","",null,"Gruppe C","Spiele","Pkte","Tore",null,null,"Diff."]
[{"$f":"Spielplan!$B28","v":0.55208333333333337},{"$f":"Spielplan!$F28","v":"M04"},"-",{"$f":"Spielplan!$H28","v":"M05"},{"$f":"IF(Spielplan!$I28=\"\",\"\",Spielplan!$I28)","v":""},":",{"$f":"IF(Spielplan!$K28=\"\",\"\",Spielplan!$K28)","v":""},"",""]
[{"$f":"Spielplan!$B29","v":0.5625},{"$f":"Spielplan!$F29","v":"M01"},"-",{"$f":"Spielplan!$H29","v":"M03"},{"$f":"IF(Spielplan!$I29=\"\",\"\",Spielplan!$I29)","v":""},":",{"$f":"IF(Spielplan!$K29=\"\",\"\",Spielplan!$K29)","v":""},"","",null,{"$f":"Vorgaben!B2","v":"M10"},{"$f":"SUM(S17:U17)","v":0},{"$f":"SUM(H5,H19,I28)","v":0},{"$f":"SUM(E5,E19,G28)","v":0},":",{"$f":"SUM(G5,G19,E28)","v":0},{"$f":"N17-P17","v":0},null,{"$f":"IF(OR(E5=\"\",G5=\"\"),0,1)","v":0},{"$f":"IF(OR(E19=\"\",G19=\"\"),0,1)","v":0},{"$f":"IF(OR(E28=\"\",G28=\"\"),0,1)","v":0}]
[{"$f":"Spielplan!$B30","v":0.57291666666666663},{"$f":"Spielplan!$F30","v":"M06"},"-",{"$f":"Spielplan!$H30","v":"M08"},{"$f":"IF(Spielplan!$I30=\"\",\"\",Spielplan!$I30)","v":""},":",{"$f":"IF(Spielplan!$K30=\"\",\"\",Spielplan!$K30)","v":""},{"$f":"IF(OR($E18=\"\",$G18=\"\"),\"\",IF(E18>G18,3,IF(E18=G18,1,0)))","v":""},{"$f":"IF(OR($E18=\"\",$G18=\"\"),\"\",IF(G18>E18,3,IF(E18=G18,1,0)))","v":""},null,{"$f":"Vorgaben!B3","v":"M11"},{"$f":"SUM(S18:U18)","v":0},{"$f":"SUM(I5,I14,H23)","v":0},{"$f":"SUM(G5,G14,E23)","v":0},":",{"$f":"SUM(E5,E14,G23)","v":0},{"$f":"N18-P18","v":0},null,{"$f":"IF(OR(E5=\"\",G5=\"\"),0,1)","v":0},{"$f":"IF(OR(E14=\"\",G14=\"\"),0,1)","v":0},{"$f":"IF(OR(E23=\"\",G23=\"\"),0,1)","v":0}]
[{"$f":"Spielplan!$B31","v":0.58333333333333326},{"$f":"Spielplan!$F31","v":"M10"},"-",{"$f":"Spielplan!$H31","v":"M12"},{"$f":"IF(Spielplan!$I31=\"\",\"\",Spielplan!$I31)","v":""},":",{"$f":"IF(Spielplan!$K31=\"\",\"\",Spielplan!$K31)","v":""},"","",null,{"$f":"Vorgaben!B4","v":"M12"},{"$f":"SUM(S19:U19)","v":0},{"$f":"SUM(H9,H14,I19)","v":0},{"$f":"SUM(E9,E14,G19)","v":0},":",{"$f":"SUM(G9,G14,E19)","v":0},{"$f":"N19-P19","v":0},null,{"$f":"IF(OR(E9=\"\",G9=\"\"),0,1)","v":0},{"$f":"IF(OR(E14=\"\",G14=\"\"),0,1)","v":0},{"$f":"IF(OR(E19=\"\",G19=\"\"),0,1)","v":0}]
[{"$f":"Spielplan!$B32","v":0.59374999999999989},{"$f":"Spielplan!$F32","v":"M14"},"-",{"$f":"Spielplan!$H32","v":"M16"},{"$f":"IF(Spielplan!$I32=\"\",\"\",Spielplan!$I32)","v":""},":",{"$f":"IF(Spielplan!$K32=\"\",\"\",Spielplan!$K32)","v":""},"","",null,{"$f":"Vorgaben!B5","v":"M13"},{"$f":"SUM(S20:U20)","v":0},{"$f":"SUM(I9,I23,H28)","v":0},{"$f":"SUM(G9,G23,E28)","v":0},":",{"$f":"SUM(E9,E23,G28)","v":0},{"$f":"N20-P20","v":0},null,{"$f":"IF(OR(E9=\"\",G9=\"\"),0,1)","v":0},{"$f":"IF(OR(E23=\"\",G23=\"\"),0,1)","v":0},{"$f":"IF(OR(E28=\"\",G28=\"\"),0,1)","v":0}]
[{"$f":"Spielplan!$B33","v":0.60416666666666652},{"$f":"Spielplan!$F33","v":"M02"},"-",{"$f":"Spielplan!$H33","v":"M04"},{"$f":"IF(Spielplan!$I33=\"\",\"\",Spielplan!$I33)","v":""},":",{"$f":"IF(Spielplan!$K33=\"\",\"\",Spielplan!$K33)","v":""},"",""]
[{"$f":"Spielplan!$B34","v":0.61458333333333315},{"$f":"Spielplan!$F34","v":"M07"},"-",{"$f":"Spielplan!$H34","v":"M09"},{"$f":"IF(Spielplan!$I34=\"\",\"\",Spielplan!$I34)","v":""},":",{"$f":"IF(Spielplan!$K34=\"\",\"\",Spielplan!$K34)","v":""},"","",null,"Gruppe D","Spiele","Pkte","Tore",null,null,"Diff."]
[{"$f":"Spielplan!$B35","v":0.62499999999999978},{"$f":"Spielplan!$F35","v":"M11"},"-",{"$f":"Spielplan!$H35","v":"M13"},{"$f":"IF(Spielplan!$I35=\"\",\"\",Spielplan!$I35)","v":""},":",{"$f":"IF(Spielplan!$K35=\"\",\"\",Spielplan!$K35)","v":""},"",""]
[{"$f":"Spielplan!$B36","v":0.63541666666666641},{"$f":"Spielplan!$F36","v":"M15"},"-",{"$f":"Spielplan!$H36","v":"M17"},{"$f":"IF(Spielplan!$I36=\"\",\"\",Spielplan!$I36)","v":""},":",{"$f":"IF(Spielplan!$K36=\"\",\"\",Spielplan!$K36)","v":""},"","",null,{"$f":"Vorgaben!B9","v":"M14"},{"$f":"SUM(S24:U24)","v":0},{"$f":"SUM(H6,H20,I29)","v":0},{"$f":"SUM(E6,E20,G29)","v":0},":",{"$f":"SUM(G6,G20,E29)","v":0},{"$f":"N24-P24","v":0},null,{"$f":"IF(OR(E6=\"\",G6=\"\"),0,1)","v":0},{"$f":"IF(OR(E20=\"\",G20=\"\"),0,1)","v":0},{"$f":"IF(OR(E29=\"\",G29=\"\"),0,1)","v":0}]
[{"$f":"Spielplan!$B37","v":0.64583333333333304},{"$f":"Spielplan!$F37","v":"M05"},"-",{"$f":"Spielplan!$H37","v":"M03"},{"$f":"IF(Spielplan!$I37=\"\",\"\",Spielplan!$I37)","v":""},":",{"$f":"IF(Spielplan!$K37=\"\",\"\",Spielplan!$K37)","v":""},"","",null,{"$f":"Vorgaben!B10","v":"M15"},{"$f":"SUM(S25:U25)","v":0},{"$f":"SUM(I6,I15,H24)","v":0},{"$f":"SUM(G6,G15,E24)","v":0},":",{"$f":"SUM(E6,E15,G24)","v":0},{"$f":"N25-P25","v":0},null,{"$f":"IF(OR(E6=\"\",G6=\"\"),0,1)","v":0},{"$f":"IF(OR(E15=\"\",G15=\"\"),0,1)","v":0},{"$f":"IF(OR(E24=\"\",G24=\"\"),0,1)","v":0}]
[{"$f":"Spielplan!$B38","v":0.65624999999999967},{"$f":"Spielplan!$F38","v":"M04"},"-",{"$f":"Spielplan!$H38","v":"M01"},{"$f":"IF(Spielplan!$I38=\"\",\"\",Spielplan!$I38)","v":""},":",{"$f":"IF(Spielplan!$K38=\"\",\"\",Spielplan!$K38)","v":""},"","",null,{"$f":"Vorgaben!B11","v":"M16"},{"$f":"SUM(S26:U26)","v":0},{"$f":"SUM(H10,H15,I20)","v":0},{"$f":"SUM(E10,E15,G20)","v":0},":",{"$f":"SUM(G10,G15,E20)","v":0},{"$f":"N26-P26","v":0},null,{"$f":"IF(OR(E10=\"\",G10=\"\"),0,1)","v":0},{"$f":"IF(OR(E15=\"\",G15=\"\"),0,1)","v":0},{"$f":"IF(OR(E20=\"\",G20=\"\"),0,1)","v":0}]
[{"$f":"Spielplan!$B39","v":0.6666666666666663},{"$f":"Spielplan!$F39","v":"M09"},"-",{"$f":"Spielplan!$H39","v":"M06"},{"$f":"IF(Spielplan!$I39=\"\",\"\",Spielplan!$I39)","v":""},":",{"$f":"IF(Spielplan!$K39=\"\",\"\",Spielplan!$K39)","v":""},"","",null,{"$f":"Vorgaben!B12","v":"M17"},{"$f":"SUM(S27:U27)","v":0},{"$f":"SUM(I10,I24,H29)","v":0},{"$f":"SUM(G10,G24,E29)","v":0},":",{"$f":"SUM(E10,E24,G29)","v":0},{"$f":"N27-P27","v":0},null,{"$f":"IF(OR(E10=\"\",G10=\"\"),0,1)","v":0},{"$f":"IF(OR(E24=\"\",G24=\"\"),0,1)","v":0},{"$f":"IF(OR(E29=\"\",G29=\"\"),0,1)","v":0}]
[{"$f":"Spielplan!$B40","v":0.67708333333333293},{"$f":"Spielplan!$F40","v":"M13"},"-",{"$f":"Spielplan!$H40","v":"M10"},{"$f":"IF(Spielplan!$I40=\"\",\"\",Spielplan!$I40)","v":""},":",{"$f":"IF(Spielplan!$K40=\"\",\"\",Spielplan!$K40)","v":""},"",""]
[{"$f":"Spielplan!$B41","v":0.68749999999999956},{"$f":"Spielplan!$F41","v":"M17"},"-",{"$f":"Spielplan!$H41","v":"M14"},{"$f":"IF(Spielplan!$I41=\"\",\"\",Spielplan!$I41)","v":""},":",{"$f":"IF(Spielplan!$K41=\"\",\"\",Spielplan!$K41)","v":""},"",""]
[{"$f":"Spielplan!$B42","v":0.69791666666666619},{"$f":"Spielplan!$F42","v":"M02"},"-",{"$f":"Spielplan!$H42","v":"M05"},{"$f":"IF(Spielplan!$I42=\"\",\"\",Spielplan!$I42)","v":""},":",{"$f":"IF(Spielplan!$K42=\"\",\"\",Spielplan!$K42)","v":""},"",""]

{"sheet":"Gruppen-Tabellen","index":6,"n_rows":24,"n_cols":8,"rows_kept":24,"cut":false,"hidden":false,"merged":[[12,0,13,0],[12,1,13,1],[18,0,19,0],[18,1,19,1],[18,2,19,2],[18,3,19,3],[12,2,13,2],[12,3,13,3],[12,4,13,6],[12,7,13,7],[0,1,0,7],[1,4,1,6],[18,4,19,6],[18,7,19,7]]}
[null,"Gruppeneinteilung - Tabellen"]
["Rang","Gruppe A","Spiele","Pkte","Tore",null,null,"Diff."]
[{"$f":"IF(Rechnen!$V$3=0,\"\",1)","v":""},{"$f":"Rechnen!K3","v":"M01"},{"$f":"IF(Rechnen!$V$3=0,\"\",Rechnen!L3)","v":""},{"$f":"IF(Rechnen!$V$3=0,\"\",Rechnen!M3)","v":""},{"$f":"IF(Rechnen!$V$3=0,\"\",Rechnen!N3)","v":""},":",{"$f":"IF(Rechnen!$V$3=0,\"\",Rechnen!P3)","v":""},{"$f":"IF(AND(E3=\"\",G3=\"\"),\"\",(E3-G3))","v":""}]
[{"$f":"IF(Rechnen!$V$3=0,\"\",2)","v":""},{"$f":"Rechnen!K4","v":"M02"},{"$f":"IF(Rechnen!$V$3=0,\"\",Rechnen!L4)","v":""},{"$f":"IF(Rechnen!$V$3=0,\"\",Rechnen!M4)","v":""},{"$f":"IF(Rechnen!$V$3=0,\"\",Rechnen!N4)","v":""},":",{"$f":"IF(Rechnen!$V$3=0,\"\",Rechnen!P4)","v":""},{"$f":"IF(AND(E4=\"\",G4=\"\"),\"\",(E4-G4))","v":""}]
[{"$f":"IF(Rechnen!$V$3=0,\"\",3)","v":""},{"$f":"Rechnen!K5","v":"M03"},{"$f":"IF(Rechnen!$V$3=0,\"\",Rechnen!L5)","v":""},{"$f":"IF(Rechnen!$V$3=0,\"\",Rechnen!M5)","v":""},{"$f":"IF(Rechnen!$V$3=0,\"\",Rechnen!N5)","v":""},":",{"$f":"IF(Rechnen!$V$3=0,\"\",Rechnen!P5)","v":""},{"$f":"IF(AND(E5=\"\",G5=\"\"),\"\",(E5-G5))","v":""}]
[{"$f":"IF(Rechnen!$V$3=0,\"\",4)","v":""},{"$f":"Rechnen!K6","v":"M04"},{"$f":"IF(Rechnen!$V$3=0,\"\",Rechnen!L6)","v":""},{"$f":"IF(Rechnen!$V$3=0,\"\",Rechnen!M6)","v":""},{"$f":"IF(Rechnen!$V$3=0,\"\",Rechnen!N6)","v":""},":",{"$f":"IF(Rechnen!$V$3=0,\"\",Rechnen!P6)","v":""},{"$f":"IF(AND(E6=\"\",G6=\"\"),\"\",(E6-G6))","v":""}]
[{"$f":"IF(Rechnen!$V$3=0,\"\",5)","v":""},{"$f":"Rechnen!K7","v":"M05"},{"$f":"IF(Rechnen!$V$3=0,\"\",Rechnen!L7)","v":""},{"$f":"IF(Rechnen!$V$3=0,\"\",Rechnen!M7)","v":""},{"$f":"IF(Rechnen!$V$3=0,\"\",Rechnen!N7)","v":""},":",{"$f":"IF(Rechnen!$V$3=0,\"\",Rechnen!P7)","v":""},{"$f":"IF(AND(E7=\"\",G7=\"\"),\"\",(E7-G7))","v":""}]
[null,"Gruppe B","Spiele","Pkte","Tore",null,null,"Diff."]
[{"$f":"IF(Rechnen!$W$3=0,\"\",1)","v":""},{"$f":"Rechnen!K10","v":"M06"},{"$f":"IF(Rechnen!$W$3=0,\"\",Rechnen!L10)","v":""},{"$f":"IF(Rechnen!$W$3=0,\"\",Rechnen!M10)","v":""},{"$f":"IF(Rechnen!$W$3=0,\"\",Rechnen!N10)","v":""},":",{"$f":"IF(Rechnen!$W$3=0,\"\",Rechnen!P10)","v":""},{"$f":"IF(AND(E9=\"\",G9=\"\"),\"\",(E9-G9))","v":""}]
[{"$f":"IF(Rechnen!$W$3=0,\"\",2)","v":""},{"$f":"Rechnen!K11","v":"M07"},{"$f":"IF(Rechnen!$W$3=0,\"\",Rechnen!L11)","v":""},{"$f":"IF(Rechnen!$W$3=0,\"\",Rechnen!M11)","v":""},{"$f":"IF(Rechnen!$W$3=0,\"\",Rechnen!N11)","v":""},":",{"$f":"IF(Rechnen!$W$3=0,\"\",Rechnen!P11)","v":""},{"$f":"IF(AND(E10=\"\",G10=\"\"),\"\",(E10-G10))","v":""}]
[{"$f":"IF(Rechnen!$W$3=0,\"\",3)","v":""},{"$f":"Rechnen!K12","v":"M08"},{"$f":"IF(Rechnen!$W$3=0,\"\",Rechnen!L12)","v":""},{"$f":"IF(Rechnen!$W$3=0,\"\",Rechnen!M12)","v":""},{"$f":"IF(Rechnen!$W$3=0,\"\",Rechnen!N12)","v":""},":",{"$f":"IF(Rechnen!$W$3=0,\"\",Rechnen!P12)","v":""},{"$f":"IF(AND(E11=\"\",G11=\"\"),\"\",(E11-G11))","v":""}]
[{"$f":"IF(Rechnen!$W$3=0,\"\",4)","v":""},{"$f":"Rechnen!K13","v":"M09"},{"$f":"IF(Rechnen!$W$3=0,\"\",Rechnen!L13)","v":""},{"$f":"IF(Rechnen!$W$3=0,\"\",Rechnen!M13)","v":""},{"$f":"IF(Rechnen!$W$3=0,\"\",Rechnen!N13)","v":""},":",{"$f":"IF(Rechnen!$W$3=0,\"\",Rechnen!P13)","v":""},{"$f":"IF(AND(E12=\"\",G12=\"\"),\"\",(E12-G12))","v":""}]
[null,"GruppeC","Spiele","Pkte","Tore",null,null,"Diff."]
[]
[{"$f":"IF(Rechnen!$X$3=0,\"\",1)","v":""},{"$f":"Rechnen!K17","v":"M10"},{"$f":"IF(Rechnen!$X$3=0,\"\",Rechnen!L17)","v":""},{"$f":"IF(Rechnen!$X$3=0,\"\",Rechnen!M17)","v":""},{"$f":"IF(Rechnen!$X$3=0,\"\",Rechnen!N17)","v":""},":",{"$f":"IF(Rechnen!$X$3=0,\"\",Rechnen!P17)","v":""},{"$f":"IF(AND(E15=\"\",G15=\"\"),\"\",(E15-G15))","v":""}]
[{"$f":"IF(Rechnen!$X$3=0,\"\",2)","v":""},{"$f":"Rechnen!K18","v":"M11"},{"$f":"IF(Rechnen!$X$3=0,\"\",Rechnen!L18)","v":""},{"$f":"IF(Rechnen!$X$3=0,\"\",Rechnen!M18)","v":""},{"$f":"IF(Rechnen!$X$3=0,\"\",Rechnen!N18)","v":""},":",{"$f":"IF(Rechnen!$X$3=0,\"\",Rechnen!P18)","v":""},{"$f":"IF(AND(E16=\"\",G16=\"\"),\"\",(E16-G16))","v":""}]
[{"$f":"IF(Rechnen!$X$3=0,\"\",3)","v":""},{"$f":"Rechnen!K19","v":"M12"},{"$f":"IF(Rechnen!$X$3=0,\"\",Rechnen!L19)","v":""},{"$f":"IF(Rechnen!$X$3=0,\"\",Rechnen!M19)","v":""},{"$f":"IF(Rechnen!$X$3=0,\"\",Rechnen!N19)","v":""},":",{"$f":"IF(Rechnen!$X$3=0,\"\",Rechnen!P19)","v":""},{"$f":"IF(AND(E17=\"\",G17=\"\"),\"\",(E17-G17))","v":""}]
[{"$f":"IF(Rechnen!$X$3=0,\"\",4)","v":""},{"$f":"Rechnen!K20","v":"M13"},{"$f":"IF(Rechnen!$X$3=0,\"\",Rechnen!L20)","v":""},{"$f":"IF(Rechnen!$X$3=0,\"\",Rechnen!M20)","v":""},{"$f":"IF(Rechnen!$X$3=0,\"\",Rechnen!N20)","v":""},":",{"$f":"IF(Rechnen!$X$3=0,\"\",Rechnen!P20)","v":""},{"$f":"IF(AND(E18=\"\",G18=\"\"),\"\",(E18-G18))","v":""}]
[null,"Gruppe D","Spiele","Pkte","Tore",null,null,"Diff."]
[]
[{"$f":"IF(Rechnen!$Y$3=0,\"\",1)","v":""},{"$f":"Rechnen!K24","v":"M14"},{"$f":"IF(Rechnen!$Y$3=0,\"\",Rechnen!L24)","v":""},{"$f":"IF(Rechnen!$Y$3=0,\"\",Rechnen!M24)","v":""},{"$f":"IF(Rechnen!$Y$3=0,\"\",Rechnen!N24)","v":""},":",{"$f":"IF(Rechnen!$Y$3=0,\"\",Rechnen!P24)","v":""},{"$f":"IF(AND(E21=\"\",G21=\"\"),\"\",(E21-G21))","v":""}]
[{"$f":"IF(Rechnen!$Y$3=0,\"\",2)","v":""},{"$f":"Rechnen!K25","v":"M15"},{"$f":"IF(Rechnen!$Y$3=0,\"\",Rechnen!L25)","v":""},{"$f":"IF(Rechnen!$Y$3=0,\"\",Rechnen!M25)","v":""},{"$f":"IF(Rechnen!$Y$3=0,\"\",Rechnen!N25)","v":""},":",{"$f":"IF(Rechnen!$Y$3=0,\"\",Rechnen!P25)","v":""},{"$f":"IF(AND(E22=\"\",G22=\"\"),\"\",(E22-G22))","v":""}]
[{"$f":"IF(Rechnen!$Y$3=0,\"\",3)","v":""},{"$f":"Rechnen!K26","v":"M16"},{"$f":"IF(Rechnen!$Y$3=0,\"\",Rechnen!L26)","v":""},{"$f":"IF(Rechnen!$Y$3=0,\"\",Rechnen!M26)","v":""},{"$f":"IF(Rechnen!$Y$3=0,\"\",Rechnen!N26)","v":""},":",{"$f":"IF(Rechnen!$Y$3=0,\"\",Rechnen!P26)","v":""},{"$f":"IF(AND(E23=\"\",G23=\"\"),\"\",(E23-G23))","v":""}]
[{"$f":"IF(Rechnen!$Y$3=0,\"\",4)","v":""},{"$f":"Rechnen!K27","v":"M17"},{"$f":"IF(Rechnen!$Y$3=0,\"\",Rechnen!L27)","v":""},{"$f":"IF(Rechnen!$Y$3=0,\"\",Rechnen!M27)","v":""},{"$f":"IF(Rechnen!$Y$3=0,\"\",Rechnen!N27)","v":""},":",{"$f":"IF(Rechnen!$Y$3=0,\"\",Rechnen!P27)","v":""},{"$f":"IF(AND(E24=\"\",G24=\"\"),\"\",(E24-G24))","v":""}]